|SUCCESS| pw131985 [PATCH] [v4] app/test: append 'allow' parameters

dpdklab at iol.unh.edu dpdklab at iol.unh.edu
Wed Sep 27 10:00:04 CEST 2023


Test-Label: iol-compile-arm64-testing
Test-Status: SUCCESS
http://dpdk.org/patch/131985

_Testing PASS_

Submitter: Mingjin Ye <mingjinx.ye at intel.com>
Date: Wednesday, September 27 2023 03:42:04 
DPDK git baseline: Repo:dpdk
  Branch: master
  CommitID:d58c97481a136ad5342c9d8717b22bdaa5eccd43

131985 --> testing pass

Test environment and result as below:

+--------------------------+--------------------+
|       Environment        | dpdk_meson_compile |
+==========================+====================+
| Ubuntu 20.04 ARM SVE     | PASS               |
+--------------------------+--------------------+
| Fedora 37 (ARM)          | PASS               |
+--------------------------+--------------------+
| Fedora 38 (ARM)          | PASS               |
+--------------------------+--------------------+
| Debian 11 (Buster) (ARM) | PASS               |
+--------------------------+--------------------+
| Ubuntu 20.04 (ARM)       | PASS               |
+--------------------------+--------------------+


Ubuntu 20.04 ARM SVE
	Kernel: 5.4.0-80-generic
	Compiler: gcc 10.3.0 (Ubuntu 10.3.0-1ubuntu1~20.04)

Fedora 37 (ARM)
	Kernel: Depends on container host
	Compiler: gcc 12.3.1

Fedora 38 (ARM)
	Kernel: Depends on container host
	Compiler: gcc 13.1.1

Debian 11 (Buster) (ARM)
	Kernel: Container Host Kernel
	Compiler: gcc 10.2.1

Ubuntu 20.04 (ARM)
	Kernel: Container Host Kernel
	Compiler: gcc 9.4.0

To view detailed results, visit:
https://lab.dpdk.org/results/dashboard/patchsets/27743/

UNH-IOL DPDK Community Lab

To manage your email subscriptions, visit: 
https://lab.dpdk.org/results/dashboard/preferences/subscriptions/


More information about the test-report mailing list