|SUCCESS| pw132000-132002 [PATCH] [v4,3/3] ethdev: cleanup shared da
dpdklab at iol.unh.edu
dpdklab at iol.unh.edu
Wed Sep 27 15:10:49 CEST 2023
Test-Label: iol-unit-amd64-testing
Test-Status: SUCCESS
http://dpdk.org/patch/132002
_Testing PASS_
Submitter: David Marchand <david.marchand at redhat.com>
Date: Wednesday, September 27 2023 11:45:15
DPDK git baseline: Repo:dpdk
Branch: master
CommitID:d58c97481a136ad5342c9d8717b22bdaa5eccd43
132000-132002 --> testing pass
Test environment and result as below:
+---------------------+----------------+
| Environment | dpdk_unit_test |
+=====================+================+
| Windows Server 2019 | PASS |
+---------------------+----------------+
| CentOS Stream 8 | PASS |
+---------------------+----------------+
| Debian Buster | PASS |
+---------------------+----------------+
| Debian Bullseye | PASS |
+---------------------+----------------+
| Fedora 37 | PASS |
+---------------------+----------------+
Windows Server 2019
Kernel: 10.0
Compiler: clang 14.0 and gcc 8.1.0 (MinGW)
CentOS Stream 8
Kernel: 4.18.0-240.10.1.el8_3.x86_64
Compiler: gcc 8.4.1 20200928
Debian Buster
Kernel: 5.4.0-122-generic
Compiler: gcc 8.3.0-6
Debian Bullseye
Kernel: 5.4.0-122-generic
Compiler: gcc 10.2.1-6
Fedora 37
Kernel: Depends on container host system
Compiler: gcc 12.3.1
To view detailed results, visit:
https://lab.dpdk.org/results/dashboard/patchsets/27748/
UNH-IOL DPDK Community Lab
To manage your email subscriptions, visit:
https://lab.dpdk.org/results/dashboard/preferences/subscriptions/
More information about the test-report
mailing list