|SUCCESS| pw131992 [PATCH] net/sfc: support packet replay in transfe

dpdklab at iol.unh.edu dpdklab at iol.unh.edu
Wed Sep 27 15:21:44 CEST 2023


Test-Label: iol-compile-amd64-testing
Test-Status: SUCCESS
http://dpdk.org/patch/131992

_Testing PASS_

Submitter: Ivan Malov <ivan.malov at arknetworks.am>
Date: Wednesday, September 27 2023 10:36:05 
DPDK git baseline: Repo:dpdk-next-net
  Branch: master
  CommitID:29de1751682a9cad7cda9f3e85b39fc5c3810132

131992 --> testing pass

Test environment and result as below:

+---------------------+--------------------+----------------------+
|     Environment     | dpdk_meson_compile | dpdk_mingw64_compile |
+=====================+====================+======================+
| FreeBSD 13          | PASS               | SKIPPED              |
+---------------------+--------------------+----------------------+
| Windows Server 2019 | PASS               | PASS                 |
+---------------------+--------------------+----------------------+


FreeBSD 13
	Kernel: 13.0
	Compiler: clang 11.0.1

Windows Server 2019
	Kernel: 10.0
	Compiler: clang 14.0 and gcc 8.1.0 (MinGW)

To view detailed results, visit:
https://lab.dpdk.org/results/dashboard/patchsets/27746/

UNH-IOL DPDK Community Lab

To manage your email subscriptions, visit: 
https://lab.dpdk.org/results/dashboard/preferences/subscriptions/


More information about the test-report mailing list