|SUCCESS| pw131993-131999 [PATCH] [v2,7/7] crypto/cnxk: add SM2 supp

dpdklab at iol.unh.edu dpdklab at iol.unh.edu
Wed Sep 27 16:31:34 CEST 2023


Test-Label: iol-unit-arm64-testing
Test-Status: SUCCESS
http://dpdk.org/patch/131999

_Testing PASS_

Submitter: Gowrishankar Muthukrishnan <gmuthukrishn at marvell.com>
Date: Wednesday, September 27 2023 11:37:34 
DPDK git baseline: Repo:dpdk
  Branch: master
  CommitID:d58c97481a136ad5342c9d8717b22bdaa5eccd43

131993-131999 --> testing pass

Test environment and result as below:

+----------------------+---------------------------+------------------------------+--------------+
|     Environment      | cryptodev_sw_zuc_autotest | cryptodev_sw_snow3g_autotest | lpm_autotest |
+======================+===========================+==============================+==============+
| Debian 11 (arm)      | PASS                      | PASS                         | SKIPPED      |
+----------------------+---------------------------+------------------------------+--------------+
| Ubuntu 20.04 ARM SVE | SKIPPED                   | SKIPPED                      | PASS         |
+----------------------+---------------------------+------------------------------+--------------+


Debian 11 (arm)
	Kernel: Container Host Kernel
	Compiler: gcc 10.2.1

Ubuntu 20.04 ARM SVE
	Kernel: 5.4.0-80-generic
	Compiler: gcc 10.3.0 (Ubuntu 10.3.0-1ubuntu1~20.04)

To view detailed results, visit:
https://lab.dpdk.org/results/dashboard/patchsets/27747/

UNH-IOL DPDK Community Lab

To manage your email subscriptions, visit: 
https://lab.dpdk.org/results/dashboard/preferences/subscriptions/


More information about the test-report mailing list