|SUCCESS| pw132087-132095 [PATCH] [v9,9/9] net/cpfl: add support of
dpdklab at iol.unh.edu
dpdklab at iol.unh.edu
Thu Sep 28 16:43:04 CEST 2023
Test-Label: iol-unit-arm64-testing
Test-Status: SUCCESS
http://dpdk.org/patch/132095
_Testing PASS_
Submitter: Zhang, Yuying <yuying.zhang at intel.com>
Date: Thursday, September 28 2023 08:44:58
DPDK git baseline: Repo:dpdk-next-net-intel
Branch: master
CommitID:4a343f542828a6c41edb473718dbb55b43f84dbe
132087-132095 --> testing pass
Test environment and result as below:
+----------------------+---------------------------+------------------------------+--------------+
| Environment | cryptodev_sw_zuc_autotest | cryptodev_sw_snow3g_autotest | lpm_autotest |
+======================+===========================+==============================+==============+
| Debian 11 (arm) | PASS | PASS | SKIPPED |
+----------------------+---------------------------+------------------------------+--------------+
| Ubuntu 20.04 ARM SVE | SKIPPED | SKIPPED | PASS |
+----------------------+---------------------------+------------------------------+--------------+
Debian 11 (arm)
Kernel: Container Host Kernel
Compiler: gcc 10.2.1
Ubuntu 20.04 ARM SVE
Kernel: 5.4.0-80-generic
Compiler: gcc 10.3.0 (Ubuntu 10.3.0-1ubuntu1~20.04)
To view detailed results, visit:
https://lab.dpdk.org/results/dashboard/patchsets/27762/
UNH-IOL DPDK Community Lab
To manage your email subscriptions, visit:
https://lab.dpdk.org/results/dashboard/preferences/subscriptions/
More information about the test-report
mailing list