|SUCCESS| pw132144-132145 [PATCH] [2/2] event/*: add driver selftest

dpdklab at iol.unh.edu dpdklab at iol.unh.edu
Thu Sep 28 21:13:44 CEST 2023


Test-Label: iol-unit-amd64-testing
Test-Status: SUCCESS
http://dpdk.org/patch/132145

_Testing PASS_

Submitter: Bruce Richardson <bruce.richardson at intel.com>
Date: Thursday, September 28 2023 15:14:28 
DPDK git baseline: Repo:dpdk
  Branch: master
  CommitID:c56185fc183fc0532d2f03aaf04bbf0989ea91a5

132144-132145 --> testing pass

Test environment and result as below:

+---------------------+----------------+
|     Environment     | dpdk_unit_test |
+=====================+================+
| Windows Server 2019 | PASS           |
+---------------------+----------------+
| Debian Buster       | PASS           |
+---------------------+----------------+
| CentOS Stream 8     | PASS           |
+---------------------+----------------+


Windows Server 2019
	Kernel: 10.0
	Compiler: clang 14.0 and gcc 8.1.0 (MinGW)

Debian Buster
	Kernel: 5.4.0-122-generic
	Compiler: gcc 8.3.0-6

CentOS Stream 8
	Kernel: 4.18.0-240.10.1.el8_3.x86_64
	Compiler: gcc 8.4.1 20200928

To view detailed results, visit:
https://lab.dpdk.org/results/dashboard/patchsets/27777/

UNH-IOL DPDK Community Lab

To manage your email subscriptions, visit: 
https://lab.dpdk.org/results/dashboard/preferences/subscriptions/


More information about the test-report mailing list