|SUCCESS| pw132167-132175 [PATCH] [v3,9/9] net/nfp: destroy security
dpdklab at iol.unh.edu
dpdklab at iol.unh.edu
Fri Sep 29 04:55:36 CEST 2023
Test-Label: iol-compile-amd64-testing
Test-Status: SUCCESS
http://dpdk.org/patch/132175
_Testing PASS_
Submitter: Chaoyong He <chaoyong.he at corigine.com>
Date: Friday, September 29 2023 02:08:10
DPDK git baseline: Repo:dpdk-next-net
Branch: master
CommitID:8f538d54f91f4f9c26d455e20aef2ace925c09b5
132167-132175 --> testing pass
Test environment and result as below:
+-----------------+--------------------+
| Environment | dpdk_meson_compile |
+=================+====================+
| FreeBSD 13 | PASS |
+-----------------+--------------------+
| Debian Bullseye | PASS |
+-----------------+--------------------+
| CentOS Stream 9 | PASS |
+-----------------+--------------------+
| Fedora 37 | PASS |
+-----------------+--------------------+
| Fedora 38 | PASS |
+-----------------+--------------------+
| Ubuntu 20.04 | PASS |
+-----------------+--------------------+
| Ubuntu 22.04 | PASS |
+-----------------+--------------------+
| CentOS Stream 8 | PASS |
+-----------------+--------------------+
FreeBSD 13
Kernel: 13.0
Compiler: clang 11.0.1
Debian Bullseye
Kernel: 5.4.0-122-generic
Compiler: gcc 10.2.1-6
CentOS Stream 9
Kernel: 4.18.0-240.10.1.el8_3.x86_64
Compiler: gcc 11.3.1 20220421
Fedora 37
Kernel: Depends on container host system
Compiler: gcc 12.3.1
Fedora 38
Kernel: Depends on container host
Compiler: gcc 13.1.1
Ubuntu 20.04
Kernel: 5.4.0-153-generic
Compiler: gcc 9.4.0-1ubuntu1~20.04.1
Ubuntu 22.04
Kernel: 4.18.0-240.10.1.el8_3.x86_64
Compiler: gcc 11.3.0
CentOS Stream 8
Kernel: 4.18.0-240.10.1.el8_3.x86_64
Compiler: gcc 8.4.1 20200928
To view detailed results, visit:
https://lab.dpdk.org/results/dashboard/patchsets/27782/
UNH-IOL DPDK Community Lab
To manage your email subscriptions, visit:
https://lab.dpdk.org/results/dashboard/preferences/subscriptions/
More information about the test-report
mailing list