|SUCCESS| pw132178-132189 [PATCH] [v7,12/12] app/test: add event DMA

dpdklab at iol.unh.edu dpdklab at iol.unh.edu
Fri Sep 29 14:05:53 CEST 2023


Test-Label: iol-compile-arm64-testing
Test-Status: SUCCESS
http://dpdk.org/patch/132189

_Testing PASS_

Submitter: Amit Prakash Shukla <amitprakashs at marvell.com>
Date: Friday, September 29 2023 08:13:09 
DPDK git baseline: Repo:dpdk-next-eventdev
  Branch: master
  CommitID:fba04ad5c3ae054f8703d82446911a03aee31a87

132178-132189 --> testing pass

Test environment and result as below:

+-----------------------+--------------------+
|      Environment      | dpdk_meson_compile |
+=======================+====================+
| Ubuntu 20.04 ARM SVE  | PASS               |
+-----------------------+--------------------+
| Fedora 37 (ARM)       | PASS               |
+-----------------------+--------------------+
| Fedora 38 (ARM)       | PASS               |
+-----------------------+--------------------+
| CentOS Stream 9 (ARM) | PASS               |
+-----------------------+--------------------+


Ubuntu 20.04 ARM SVE
	Kernel: 5.4.0-80-generic
	Compiler: gcc 10.3.0 (Ubuntu 10.3.0-1ubuntu1~20.04)

Fedora 37 (ARM)
	Kernel: Depends on container host
	Compiler: gcc 12.3.1

Fedora 38 (ARM)
	Kernel: Depends on container host
	Compiler: gcc 13.1.1

CentOS Stream 9 (ARM)
	Kernel: Container Host Kernel
	Compiler: gcc 11.3.1

To view detailed results, visit:
https://lab.dpdk.org/results/dashboard/patchsets/27784/

UNH-IOL DPDK Community Lab

To manage your email subscriptions, visit: 
https://lab.dpdk.org/results/dashboard/preferences/subscriptions/


More information about the test-report mailing list