|SUCCESS| pw132248 [PATCH] net/gve: allow GVE MTU greater than RTE_E
dpdklab at iol.unh.edu
dpdklab at iol.unh.edu
Sat Sep 30 01:14:46 CEST 2023
Test-Label: iol-unit-arm64-testing
Test-Status: SUCCESS
http://dpdk.org/patch/132248
_Testing PASS_
Submitter: Joshua Washington <joshwash at google.com>
Date: Friday, September 29 2023 20:38:25
DPDK git baseline: Repo:dpdk
Branch: master
CommitID:a89a9ca38ae61778a80f287677dc91e8bb3fbdfd
132248 --> testing pass
Test environment and result as below:
+----------------------+---------------------------+------------------------------+--------------+
| Environment | cryptodev_sw_zuc_autotest | cryptodev_sw_snow3g_autotest | lpm_autotest |
+======================+===========================+==============================+==============+
| Debian 11 (arm) | PASS | PASS | SKIPPED |
+----------------------+---------------------------+------------------------------+--------------+
| Ubuntu 20.04 ARM SVE | SKIPPED | SKIPPED | PASS |
+----------------------+---------------------------+------------------------------+--------------+
Debian 11 (arm)
Kernel: Container Host Kernel
Compiler: gcc 10.2.1
Ubuntu 20.04 ARM SVE
Kernel: 5.4.0-80-generic
Compiler: gcc 10.3.0 (Ubuntu 10.3.0-1ubuntu1~20.04)
To view detailed results, visit:
https://lab.dpdk.org/results/dashboard/patchsets/27796/
UNH-IOL DPDK Community Lab
To manage your email subscriptions, visit:
https://lab.dpdk.org/results/dashboard/preferences/subscriptions/
More information about the test-report
mailing list