|SUCCESS| pw132249 [PATCH] net/vhost: report TX errors in port stats

dpdklab at iol.unh.edu dpdklab at iol.unh.edu
Sat Sep 30 04:04:04 CEST 2023


Test-Label: iol-compile-arm64-testing
Test-Status: SUCCESS
http://dpdk.org/patch/132249

_Testing PASS_

Submitter: Andrey Ignatov <rdna at apple.com>
Date: Saturday, September 30 2023 01:00:24 
DPDK git baseline: Repo:dpdk
  Branch: master
  CommitID:6e999364a6afb9189029154b1ac55b4ad5fb9b3f

132249 --> testing pass

Test environment and result as below:

+--------------------------------------+--------------------+
|             Environment              | dpdk_meson_compile |
+======================================+====================+
| Ubuntu 20.04 ARM SVE                 | PASS               |
+--------------------------------------+--------------------+
| Fedora 38 (ARM)                      | PASS               |
+--------------------------------------+--------------------+
| CentOS Stream 9 (ARM)                | PASS               |
+--------------------------------------+--------------------+
| Debian 11 (Buster) (ARM)             | PASS               |
+--------------------------------------+--------------------+
| Ubuntu 20.04 ARM GCC Cross Compile   | PASS               |
+--------------------------------------+--------------------+
| Ubuntu 20.04 ARM Clang Cross Compile | PASS               |
+--------------------------------------+--------------------+


Ubuntu 20.04 ARM SVE
	Kernel: 5.4.0-80-generic
	Compiler: gcc 10.3.0 (Ubuntu 10.3.0-1ubuntu1~20.04)

Fedora 38 (ARM)
	Kernel: Depends on container host
	Compiler: gcc 13.1.1

CentOS Stream 9 (ARM)
	Kernel: Container Host Kernel
	Compiler: gcc 11.3.1

Debian 11 (Buster) (ARM)
	Kernel: Container Host Kernel
	Compiler: gcc 10.2.1

Ubuntu 20.04 ARM GCC Cross Compile
	Kernel: 5.4.0-72-generic
	Compiler: aarch64-linux-gnu-gcc (Ubuntu 9.3.0-17ubuntu1~20.04) 9.3.0

Ubuntu 20.04 ARM Clang Cross Compile
	Kernel: 5.4.0-72-generic
	Compiler: clang version 10.0.0-4ubuntu1

To view detailed results, visit:
https://lab.dpdk.org/results/dashboard/patchsets/27797/

UNH-IOL DPDK Community Lab

To manage your email subscriptions, visit: 
https://lab.dpdk.org/results/dashboard/preferences/subscriptions/


More information about the test-report mailing list