|SUCCESS| pw132250-132253 [PATCH] [4/4] net/nfp: add support for mer

dpdklab at iol.unh.edu dpdklab at iol.unh.edu
Sat Sep 30 12:41:48 CEST 2023


Test-Label: iol-compile-amd64-testing
Test-Status: SUCCESS
http://dpdk.org/patch/132253

_Testing PASS_

Submitter: Chaoyong He <chaoyong.he at corigine.com>
Date: Saturday, September 30 2023 10:00:53 
DPDK git baseline: Repo:dpdk-next-net
  Branch: master
  CommitID:76fa3327719b10bdb96beb2f4ac3be6c1227d2d4

132250-132253 --> testing pass

Test environment and result as below:

+---------------------+--------------------+----------------------+
|     Environment     | dpdk_meson_compile | dpdk_mingw64_compile |
+=====================+====================+======================+
| FreeBSD 13          | PASS               | SKIPPED              |
+---------------------+--------------------+----------------------+
| Windows Server 2019 | PASS               | PASS                 |
+---------------------+--------------------+----------------------+


FreeBSD 13
	Kernel: 13.0
	Compiler: clang 11.0.1

Windows Server 2019
	Kernel: 10.0
	Compiler: clang 14.0 and gcc 8.1.0 (MinGW)

To view detailed results, visit:
https://lab.dpdk.org/results/dashboard/patchsets/27798/

UNH-IOL DPDK Community Lab

To manage your email subscriptions, visit: 
https://lab.dpdk.org/results/dashboard/preferences/subscriptions/


More information about the test-report mailing list