|SUCCESS| pw139181 [PATCH] net/mlx5/hws: add fragment packet ID matc
    dpdklab at iol.unh.edu 
    dpdklab at iol.unh.edu
       
    Mon Apr  8 10:52:09 CEST 2024
    
    
  
Test-Label: iol-unit-arm64-testing
Test-Status: SUCCESS
http://dpdk.org/patch/139181
_Testing PASS_
Submitter: Michael Baum <michaelba at nvidia.com>
Date: Monday, April 08 2024 06:32:10 
DPDK git baseline: Repo:dpdk
  Branch: master
  CommitID:80ecef6d1f71fcebc0a51d7cabc51f73ee142ff2
139181 --> testing pass
Test environment and result as below:
+--------------------------+----------------+---------------------------+--------------+------------------------------+
|       Environment        | dpdk_unit_test | cryptodev_sw_zuc_autotest | lpm_autotest | cryptodev_sw_snow3g_autotest |
+==========================+================+===========================+==============+==============================+
| Debian 11 (Buster) (ARM) | PASS           | SKIPPED                   | SKIPPED      | SKIPPED                      |
+--------------------------+----------------+---------------------------+--------------+------------------------------+
| CentOS Stream 9 (ARM)    | PASS           | SKIPPED                   | SKIPPED      | SKIPPED                      |
+--------------------------+----------------+---------------------------+--------------+------------------------------+
| Debian 12 (arm)          | PASS           | PASS                      | SKIPPED      | PASS                         |
+--------------------------+----------------+---------------------------+--------------+------------------------------+
| Fedora 37 (ARM)          | PASS           | SKIPPED                   | SKIPPED      | SKIPPED                      |
+--------------------------+----------------+---------------------------+--------------+------------------------------+
| Fedora 38 (ARM)          | PASS           | SKIPPED                   | SKIPPED      | SKIPPED                      |
+--------------------------+----------------+---------------------------+--------------+------------------------------+
| Fedora 39 (ARM)          | PASS           | SKIPPED                   | SKIPPED      | SKIPPED                      |
+--------------------------+----------------+---------------------------+--------------+------------------------------+
| Ubuntu 20.04 ARM SVE     | SKIPPED        | SKIPPED                   | PASS         | SKIPPED                      |
+--------------------------+----------------+---------------------------+--------------+------------------------------+
Debian 11 (Buster) (ARM)
	Kernel: Container Host Kernel
	Compiler: gcc 10.2.1
CentOS Stream 9 (ARM)
	Kernel: Container Host Kernel
	Compiler: gcc 11.4.1
Debian 12 (arm)
	Kernel: Container Host Kernel
	Compiler: gcc 12.2.0
Fedora 37 (ARM)
	Kernel: Depends on container host
	Compiler: gcc 12.3.1
Fedora 38 (ARM)
	Kernel: Depends on container host
	Compiler: gcc 13.2.1
Fedora 39 (ARM)
	Kernel: Depends on container host
	Compiler: gcc 13.2.1
Ubuntu 20.04 ARM SVE
	Kernel: 5.4.0-167-generic
	Compiler: gcc (Ubuntu 10.5.0-1ubuntu1~20.04) 10.5.0
To view detailed results, visit:
https://lab.dpdk.org/results/dashboard/patchsets/29735/
UNH-IOL DPDK Community Lab
To manage your email subscriptions, visit: 
https://lab.dpdk.org/results/dashboard/preferences/subscriptions/
    
    
More information about the test-report
mailing list