|SUCCESS| pw139219 [PATCH] [1/1] vhost: fix GCC 13 build error
    dpdklab at iol.unh.edu 
    dpdklab at iol.unh.edu
       
    Wed Apr 10 18:23:06 CEST 2024
    
    
  
Test-Label: iol-abi-testing
Test-Status: SUCCESS
http://dpdk.org/patch/139219
_Testing PASS_
Submitter: Luca Vizzarro <luca.vizzarro at arm.com>
Date: Wednesday, April 10 2024 15:21:01 
DPDK git baseline: Repo:dpdk
  Branch: master
  CommitID:deedfb86a7a6e10064d3cccd593f62072de96e36
139219 --> testing pass
Test environment and result as below:
+-----------------+----------+
|   Environment   | abi_test |
+=================+==========+
| Fedora 38       | PASS     |
+-----------------+----------+
| CentOS Stream 8 | PASS     |
+-----------------+----------+
| Fedora 39       | PASS     |
+-----------------+----------+
Fedora 38
	Kernel: Depends on container host
	Compiler: clang 16.0.6
CentOS Stream 8
	Kernel: 5.4.0-167-generic
	Compiler: gcc 8.5.0 20210514
Fedora 39
	Kernel: Depends on container host
	Compiler: clang 17.0.6
To view detailed results, visit:
https://lab.dpdk.org/results/dashboard/patchsets/29751/
UNH-IOL DPDK Community Lab
To manage your email subscriptions, visit: 
https://lab.dpdk.org/results/dashboard/preferences/subscriptions/
    
    
More information about the test-report
mailing list