|SUCCESS| [GIT MASTER] cfa8a4cb909e07cbb34941358f4d912c879dca34
    dpdklab at iol.unh.edu 
    dpdklab at iol.unh.edu
       
    Sat Apr 13 12:55:31 CEST 2024
    
    
  
_Testing PASS_
Branch: 23.11-staging
cfa8a4cb909e07cbb34941358f4d912c879dca34 --> testing pass
Test environment and result as below:
+-----------------------------+--------------+----------------+------------------------------+
|         Environment         | lpm_autotest | dpdk_unit_test | cryptodev_sw_snow3g_autotest |
+=============================+==============+================+==============================+
| Ubuntu 20.04 ARM SVE        | PASS         | SKIPPED        | SKIPPED                      |
+-----------------------------+--------------+----------------+------------------------------+
| 32-bit Ubuntu 20.04.4 (ARM) | SKIPPED      | PASS           | SKIPPED                      |
+-----------------------------+--------------+----------------+------------------------------+
| CentOS Stream 9 (ARM)       | SKIPPED      | PASS           | SKIPPED                      |
+-----------------------------+--------------+----------------+------------------------------+
| Debian 12 (arm)             | SKIPPED      | SKIPPED        | PASS                         |
+-----------------------------+--------------+----------------+------------------------------+
Ubuntu 20.04 ARM SVE
	Kernel: 5.4.0-167-generic
	Compiler: gcc (Ubuntu 10.5.0-1ubuntu1~20.04) 10.5.0
32-bit Ubuntu 20.04.4 (ARM)
	Kernel: 5.4.0-155-generic aarch64
	Compiler: gcc 9.4
CentOS Stream 9 (ARM)
	Kernel: Container Host Kernel
	Compiler: gcc 11.4.1
Debian 12 (arm)
	Kernel: Container Host Kernel
	Compiler: gcc 12.2.0
To view detailed results, visit:
https://lab.dpdk.org/results/dashboard/tarballs/28807/
UNH-IOL DPDK Community Lab
To manage your email subscriptions, visit: 
https://lab.dpdk.org/results/dashboard/preferences/subscriptions/
    
    
More information about the test-report
mailing list