|SUCCESS| [GIT MASTER] 972d4c02ae08b1a5b61cdda211896efdc9e9a0d8
    dpdklab at iol.unh.edu 
    dpdklab at iol.unh.edu
       
    Sun Apr 21 07:46:11 CEST 2024
    
    
  
_Testing PASS_
Branch: tags/v22.11
972d4c02ae08b1a5b61cdda211896efdc9e9a0d8 --> testing pass
Test environment and result as below:
+-----------------+----------------+
|   Environment   | dpdk_unit_test |
+=================+================+
| CentOS Stream 9 | PASS           |
+-----------------+----------------+
| Debian 12       | PASS           |
+-----------------+----------------+
| CentOS Stream 8 | PASS           |
+-----------------+----------------+
CentOS Stream 9
	Kernel: 5.4.0-167-generic
	Compiler: gcc 11.4.1 20230605
Debian 12
	Kernel: Container Host Kernel
	Compiler: gcc 10.2.1
CentOS Stream 8
	Kernel: 5.4.0-167-generic
	Compiler: gcc 8.5.0 20210514
To view detailed results, visit:
https://lab.dpdk.org/results/dashboard/tarballs/28900/
UNH-IOL DPDK Community Lab
To manage your email subscriptions, visit: 
https://lab.dpdk.org/results/dashboard/preferences/subscriptions/
    
    
More information about the test-report
mailing list