|SUCCESS| [GIT MASTER] 972d4c02ae08b1a5b61cdda211896efdc9e9a0d8
    dpdklab at iol.unh.edu 
    dpdklab at iol.unh.edu
       
    Sun Apr 21 07:58:01 CEST 2024
    
    
  
_Testing PASS_
Branch: tags/v22.11
972d4c02ae08b1a5b61cdda211896efdc9e9a0d8 --> testing pass
Test environment and result as below:
+---------------------+--------------------+----------------------+
|     Environment     | dpdk_meson_compile | dpdk_mingw64_compile |
+=====================+====================+======================+
| FreeBSD 13.2        | PASS               | SKIPPED              |
+---------------------+--------------------+----------------------+
| Windows Server 2022 | PASS               | PASS                 |
+---------------------+--------------------+----------------------+
| Windows Server 2019 | PASS               | PASS                 |
+---------------------+--------------------+----------------------+
| Debian 12           | PASS               | SKIPPED              |
+---------------------+--------------------+----------------------+
| Debian Bullseye     | PASS               | SKIPPED              |
+---------------------+--------------------+----------------------+
| Fedora 38           | PASS               | SKIPPED              |
+---------------------+--------------------+----------------------+
| CentOS Stream 8     | PASS               | SKIPPED              |
+---------------------+--------------------+----------------------+
| Ubuntu 20.04        | PASS               | SKIPPED              |
+---------------------+--------------------+----------------------+
| Ubuntu 22.04        | PASS               | SKIPPED              |
+---------------------+--------------------+----------------------+
| RHEL 7              | PASS               | SKIPPED              |
+---------------------+--------------------+----------------------+
| openSUSE Leap 15    | PASS               | SKIPPED              |
+---------------------+--------------------+----------------------+
| Fedora 39           | PASS               | SKIPPED              |
+---------------------+--------------------+----------------------+
| RHEL8               | PASS               | SKIPPED              |
+---------------------+--------------------+----------------------+
| CentOS Stream 9     | PASS               | SKIPPED              |
+---------------------+--------------------+----------------------+
FreeBSD 13.2
	Kernel: 13.2
	Compiler: clang 14.0.5
Windows Server 2022
	Kernel: 10.0.20348.2031
	Compiler: clang 15.0.7, gcc 8.1.0 (MinGW), and MSVC VS 17.9
Windows Server 2019
	Kernel: 10.0.17763
	Compiler: clang 14.0 and gcc 8.1.0 (MinGW)
Debian 12
	Kernel: Container Host Kernel
	Compiler: gcc 10.2.1
Debian Bullseye
	Kernel: 5.4.0-167-generic
	Compiler: gcc 10.2.1-6
Fedora 38
	Kernel: Depends on container host
	Compiler: gcc 13.2.1
CentOS Stream 8
	Kernel: 5.4.0-167-generic
	Compiler: gcc 8.5.0 20210514
Ubuntu 20.04
	Kernel: 5.4.0-167-generic
	Compiler: gcc 9.4.0-1ubuntu1~20.04.1
Ubuntu 22.04
	Kernel: 5.4.0-167-generic
	Compiler: gcc 11.4.0
RHEL 7
	Kernel: 5.4.0-167-generic
	Compiler: gcc 4.8.5 20150623 (Red Hat 4.8.5-44)
openSUSE Leap 15
	Kernel: 5.4.0-167-generic
	Compiler: gcc 7.5.0
Fedora 39
	Kernel: Depends on container host
	Compiler: gcc 13.2.1
RHEL8
	Kernel: 5.4.0-167-generic
	Compiler: gcc 8.5.0 20210514 (Red Hat 8.5.0-20)
CentOS Stream 9
	Kernel: 5.4.0-167-generic
	Compiler: gcc 11.4.1 20230605
To view detailed results, visit:
https://lab.dpdk.org/results/dashboard/tarballs/28900/
UNH-IOL DPDK Community Lab
To manage your email subscriptions, visit: 
https://lab.dpdk.org/results/dashboard/preferences/subscriptions/
    
    
More information about the test-report
mailing list