|SUCCESS| [GIT MASTER] e9b8b369deed1d368079e2591fa8df4a4b9dc94a
    dpdklab at iol.unh.edu 
    dpdklab at iol.unh.edu
       
    Mon Apr 22 08:05:05 CEST 2024
    
    
  
_Testing PASS_
Branch: tags/v21.11
e9b8b369deed1d368079e2591fa8df4a4b9dc94a --> testing pass
Test environment and result as below:
+------------------------------------+--------------------+
|            Environment             | dpdk_meson_compile |
+====================================+====================+
| Ubuntu 20.04 ARM SVE               | PASS               |
+------------------------------------+--------------------+
| Fedora 37 (ARM)                    | PASS               |
+------------------------------------+--------------------+
| Ubuntu 20.04 (ARM)                 | PASS               |
+------------------------------------+--------------------+
| Debian 11 (Buster) (ARM)           | PASS               |
+------------------------------------+--------------------+
| Fedora 38 (ARM)                    | PASS               |
+------------------------------------+--------------------+
| Debian 12 with MUSDK               | PASS               |
+------------------------------------+--------------------+
| CentOS Stream 9 (ARM)              | PASS               |
+------------------------------------+--------------------+
| Debian 12 (arm)                    | PASS               |
+------------------------------------+--------------------+
| Fedora 39 (ARM)                    | PASS               |
+------------------------------------+--------------------+
| Ubuntu 20.04 ARM GCC Cross Compile | PASS               |
+------------------------------------+--------------------+
| Fedora 38 (ARM Clang)              | PASS               |
+------------------------------------+--------------------+
Ubuntu 20.04 ARM SVE
	Kernel: 5.4.0-167-generic
	Compiler: gcc (Ubuntu 10.5.0-1ubuntu1~20.04) 10.5.0
Fedora 37 (ARM)
	Kernel: Depends on container host
	Compiler: gcc 12.3.1
Ubuntu 20.04 (ARM)
	Kernel: Container Host Kernel
	Compiler: gcc 9.4.0
Debian 11 (Buster) (ARM)
	Kernel: Container Host Kernel
	Compiler: gcc 10.2.1
Fedora 38 (ARM)
	Kernel: Depends on container host
	Compiler: gcc 13.2.1
Debian 12 with MUSDK
	Kernel: Container Host Kernel
	Compiler: gcc 12.2.0
CentOS Stream 9 (ARM)
	Kernel: Container Host Kernel
	Compiler: gcc 11.4.1
Debian 12 (arm)
	Kernel: Container Host Kernel
	Compiler: gcc 12.2.0
Fedora 39 (ARM)
	Kernel: Depends on container host
	Compiler: gcc 13.2.1
Ubuntu 20.04 ARM GCC Cross Compile
	Kernel: 5.4.0-167-generic
	Compiler: aarch64-linux-gnu-gcc (Ubuntu 9.4.0-1ubuntu1~20.04.2) 9.4.0
Fedora 38 (ARM Clang)
	Kernel: Depends on container host
	Compiler: clang 16.0.6
To view detailed results, visit:
https://lab.dpdk.org/results/dashboard/tarballs/28903/
UNH-IOL DPDK Community Lab
To manage your email subscriptions, visit: 
https://lab.dpdk.org/results/dashboard/preferences/subscriptions/
    
    
More information about the test-report
mailing list