|PENDING| pw142798-142800 [PATCH] [v3,3/3] test: restore cfgfile tes
    dpdklab at iol.unh.edu 
    dpdklab at iol.unh.edu
       
    Thu Aug  1 05:45:48 CEST 2024
    
    
  
Test-Label: iol-compile-amd64-testing
Test-Status: PENDING
http://dpdk.org/patch/142800
_Testing pending_
Submitter: Stephen Hemminger <stephen at networkplumber.org>
Date: Wednesday, July 31 2024 17:35:13 
DPDK git baseline: Repo:dpdk
  Branch: master
  CommitID:b3485f4293997d35b6daecc3437bb0c183a51fb3
142798-142800 --> testing pending
Upstream job id: Windows-Compile-DPDK-Mingw64#21190
Test environment and result as below:
+---------------------+--------------------+-------------------+----------------------+
|     Environment     | dpdk_meson_compile | dpdk_msvc_compile | dpdk_mingw64_compile |
+=====================+====================+===================+======================+
| Windows Server 2019 | PASS               | SKIPPED           | PASS                 |
+---------------------+--------------------+-------------------+----------------------+
| Windows Server 2022 | PASS               | PEND              | PEND                 |
+---------------------+--------------------+-------------------+----------------------+
| FreeBSD 13.3        | PASS               | SKIPPED           | SKIPPED              |
+---------------------+--------------------+-------------------+----------------------+
| FreeBSD 14.1        | PEND               | SKIPPED           | SKIPPED              |
+---------------------+--------------------+-------------------+----------------------+
Windows Server 2019
	Kernel: 10.0.17763
	Compiler: clang 14.0 and gcc 8.1.0 (MinGW)
Windows Server 2022
	Kernel: 10.0.20348.2031
	Compiler: clang 15.0.7, gcc 8.1.0 (MinGW), and MSVC VS 17.9
FreeBSD 13.3
	Kernel: 13.3-RELEASE-p1
	Compiler: clang 17.0.6
FreeBSD 14.1
	Kernel: 14.1
	Compiler: clang 18.1.5
To view detailed results, visit:
https://lab.dpdk.org/results/dashboard/patchsets/30683/
UNH-IOL DPDK Community Lab
To manage your email subscriptions, visit: 
https://lab.dpdk.org/results/dashboard/preferences/subscriptions/
    
    
More information about the test-report
mailing list