|PENDING| [GIT MASTER] 2480dbd434234a40e7f999ced4650581fd64a24e
    dpdklab at iol.unh.edu 
    dpdklab at iol.unh.edu
       
    Sat Aug  3 08:12:10 CEST 2024
    
    
  
_Testing pending_
Branch: tags/v22.11
2480dbd434234a40e7f999ced4650581fd64a24e --> testing pending
Upstream job id: Generic-DPDK-Compile-Meson#284128
Test environment and result as below:
+---------------------+----------------------+--------------------+
|     Environment     | dpdk_mingw64_compile | dpdk_meson_compile |
+=====================+======================+====================+
| Windows Server 2019 | PASS                 | PASS               |
+---------------------+----------------------+--------------------+
| Windows Server 2022 | PASS                 | PASS               |
+---------------------+----------------------+--------------------+
| FreeBSD 13.3        | SKIPPED              | PASS               |
+---------------------+----------------------+--------------------+
| FreeBSD 14.1        | SKIPPED              | PASS               |
+---------------------+----------------------+--------------------+
| CentOS Stream 9     | SKIPPED              | PEND               |
+---------------------+----------------------+--------------------+
| Debian Bullseye     | SKIPPED              | PEND               |
+---------------------+----------------------+--------------------+
| Debian 12           | SKIPPED              | PASS               |
+---------------------+----------------------+--------------------+
| Fedora 37           | SKIPPED              | PASS               |
+---------------------+----------------------+--------------------+
| Fedora 38 (Clang)   | SKIPPED              | PEND               |
+---------------------+----------------------+--------------------+
Windows Server 2019
	Kernel: 10.0.17763
	Compiler: clang 14.0 and gcc 8.1.0 (MinGW)
Windows Server 2022
	Kernel: 10.0.20348.2031
	Compiler: clang 15.0.7, gcc 8.1.0 (MinGW), and MSVC VS 17.9
FreeBSD 13.3
	Kernel: 13.3-RELEASE-p1
	Compiler: clang 17.0.6
FreeBSD 14.1
	Kernel: 14.1
	Compiler: clang 18.1.5
CentOS Stream 9
	Kernel: 5.4.0-167-generic
	Compiler: gcc 11.4.1 20230605
Debian Bullseye
	Kernel: 5.4.0-167-generic
	Compiler: gcc 10.2.1-6
Debian 12
	Kernel: Container Host Kernel
	Compiler: gcc 12.2.0
Fedora 37
	Kernel: Depends on container host system
	Compiler: gcc 12.3.1
Fedora 38 (Clang)
	Kernel: Depends on container host
	Compiler: clang 16.0.6
To view detailed results, visit:
https://lab.dpdk.org/results/dashboard/tarballs/30124/
UNH-IOL DPDK Community Lab
To manage your email subscriptions, visit: 
https://lab.dpdk.org/results/dashboard/preferences/subscriptions/
    
    
More information about the test-report
mailing list