|PENDING| [GIT MASTER] 2480dbd434234a40e7f999ced4650581fd64a24e
    dpdklab at iol.unh.edu 
    dpdklab at iol.unh.edu
       
    Mon Aug  5 06:27:14 CEST 2024
    
    
  
_Testing pending_
Branch: tags/v22.11
2480dbd434234a40e7f999ced4650581fd64a24e --> testing pending
Upstream job id: Generic-DPDK-Compile-Meson#284327
Test environment and result as below:
+-------------------+--------------------+
|    Environment    | dpdk_meson_compile |
+===================+====================+
| CentOS Stream 9   | PASS               |
+-------------------+--------------------+
| Debian Bullseye   | PASS               |
+-------------------+--------------------+
| Fedora 37         | PEND               |
+-------------------+--------------------+
| Debian 12         | PEND               |
+-------------------+--------------------+
| Fedora 38         | PASS               |
+-------------------+--------------------+
| Fedora 40         | PEND               |
+-------------------+--------------------+
| Fedora 39         | PEND               |
+-------------------+--------------------+
| Fedora 39 (Clang) | PEND               |
+-------------------+--------------------+
| Fedora 38 (Clang) | PEND               |
+-------------------+--------------------+
| Fedora 40 (Clang) | PEND               |
+-------------------+--------------------+
| openSUSE Leap 15  | PEND               |
+-------------------+--------------------+
| RHEL9             | PEND               |
+-------------------+--------------------+
| Ubuntu 20.04      | PEND               |
+-------------------+--------------------+
CentOS Stream 9
	Kernel: 5.4.0-167-generic
	Compiler: gcc 11.4.1 20230605
Debian Bullseye
	Kernel: 5.4.0-167-generic
	Compiler: gcc 10.2.1-6
Fedora 37
	Kernel: Depends on container host system
	Compiler: gcc 12.3.1
Debian 12
	Kernel: Container Host Kernel
	Compiler: gcc 12.2.0
Fedora 38
	Kernel: Depends on container host
	Compiler: gcc 13.2.1
Fedora 40
	Kernel: Depends on container host
	Compiler: gcc 14.1.1
Fedora 39
	Kernel: Depends on container host
	Compiler: gcc 13.2.1
Fedora 39 (Clang)
	Kernel: Depends on container host
	Compiler: clang 17.0.6
Fedora 38 (Clang)
	Kernel: Depends on container host
	Compiler: clang 16.0.6
Fedora 40 (Clang)
	Kernel: Depends on container host
	Compiler: clang 18.1.6
openSUSE Leap 15
	Kernel: 5.4.0-167-generic
	Compiler: gcc 7.5.0
RHEL9
	Kernel: Depends on container host
	Compiler: gcc 11.4.1
Ubuntu 20.04
	Kernel: 5.4.0-167-generic
	Compiler: gcc 9.4.0-1ubuntu1~20.04.1
To view detailed results, visit:
https://lab.dpdk.org/results/dashboard/tarballs/30130/
UNH-IOL DPDK Community Lab
To manage your email subscriptions, visit: 
https://lab.dpdk.org/results/dashboard/preferences/subscriptions/
    
    
More information about the test-report
mailing list