|PENDING| [GIT MASTER] 49b2102bf9fea000d36860353016a5c6ddf993a9
    dpdklab at iol.unh.edu 
    dpdklab at iol.unh.edu
       
    Wed Aug  7 07:00:45 CEST 2024
    
    
  
_Testing pending_
Branch: tags/v21.11
49b2102bf9fea000d36860353016a5c6ddf993a9 --> testing pending
Upstream job id: Windows-Compile-DPDK-Mingw64#21330
Test environment and result as below:
+---------------------+----------------------+--------------------+
|     Environment     | dpdk_mingw64_compile | dpdk_meson_compile |
+=====================+======================+====================+
| Windows Server 2022 | PEND                 | PEND               |
+---------------------+----------------------+--------------------+
| Windows Server 2019 | PASS                 | PEND               |
+---------------------+----------------------+--------------------+
| FreeBSD 13.3        | SKIPPED              | PASS               |
+---------------------+----------------------+--------------------+
| FreeBSD 14.1        | SKIPPED              | PASS               |
+---------------------+----------------------+--------------------+
Windows Server 2022
	Kernel: 10.0.20348.2031
	Compiler: clang 15.0.7, gcc 8.1.0 (MinGW), and MSVC VS 17.9
Windows Server 2019
	Kernel: 10.0.17763
	Compiler: clang 14.0 and gcc 8.1.0 (MinGW)
FreeBSD 13.3
	Kernel: 13.3-RELEASE-p1
	Compiler: clang 17.0.6
FreeBSD 14.1
	Kernel: 14.1
	Compiler: clang 18.1.5
To view detailed results, visit:
https://lab.dpdk.org/results/dashboard/tarballs/30157/
UNH-IOL DPDK Community Lab
To manage your email subscriptions, visit: 
https://lab.dpdk.org/results/dashboard/preferences/subscriptions/
    
    
More information about the test-report
mailing list