|PENDING| pw143028-143032 [PATCH] [5/5] eal: simplify eal alarm canc
    dpdklab at iol.unh.edu 
    dpdklab at iol.unh.edu
       
    Fri Aug  9 10:52:16 CEST 2024
    
    
  
Test-Label: iol-compile-amd64-testing
Test-Status: PENDING
http://dpdk.org/patch/143032
_Testing pending_
Submitter: Stephen Hemminger <stephen at networkplumber.org>
Date: Thursday, August 08 2024 19:47:01 
DPDK git baseline: Repo:dpdk
  Branch: master
  CommitID:cb9187bc5c2b4bab0ad80194ac3b60491de14e8c
143028-143032 --> testing pending
Upstream job id: Windows-Compile-DPDK-Meson#24194
Test environment and result as below:
+---------------------+----------------------+--------------------+-------------------+
|     Environment     | dpdk_mingw64_compile | dpdk_meson_compile | dpdk_msvc_compile |
+=====================+======================+====================+===================+
| Windows Server 2019 | PASS                 | PASS               | SKIPPED           |
+---------------------+----------------------+--------------------+-------------------+
| Windows Server 2022 | PASS                 | PEND               | PEND              |
+---------------------+----------------------+--------------------+-------------------+
| FreeBSD 13.3        | SKIPPED              | PASS               | SKIPPED           |
+---------------------+----------------------+--------------------+-------------------+
| FreeBSD 14.1        | SKIPPED              | PEND               | SKIPPED           |
+---------------------+----------------------+--------------------+-------------------+
Windows Server 2019
	Kernel: 10.0.17763
	Compiler: clang 14.0 and gcc 8.1.0 (MinGW)
Windows Server 2022
	Kernel: 10.0.20348.2031
	Compiler: clang 15.0.7, gcc 8.1.0 (MinGW), and MSVC VS 17.9
FreeBSD 13.3
	Kernel: 13.3-RELEASE-p1
	Compiler: clang 17.0.6
FreeBSD 14.1
	Kernel: 14.1
	Compiler: clang 18.1.5
To view detailed results, visit:
https://lab.dpdk.org/results/dashboard/patchsets/30750/
UNH-IOL DPDK Community Lab
To manage your email subscriptions, visit: 
https://lab.dpdk.org/results/dashboard/preferences/subscriptions/
    
    
More information about the test-report
mailing list