|SUCCESS| pw143043-143042 [PATCH] [v9,2/2] examples/l3fwd-power: add
    dpdklab at iol.unh.edu 
    dpdklab at iol.unh.edu
       
    Sat Aug 10 05:30:23 CEST 2024
    
    
  
Test-Label: iol-sample-apps-testing
Test-Status: SUCCESS
http://dpdk.org/patch/143042
_Testing PASS_
Submitter: Huisong Li <lihuisong at huawei.com>
Date: Friday, August 09 2024 09:50:12 
DPDK git baseline: Repo:dpdk
  Branch: master
  CommitID:cb9187bc5c2b4bab0ad80194ac3b60491de14e8c
143043-143042 --> testing pass
Upstream job id: ACVP-FIPS-testing#6585
Test environment and result as below:
+--------------------+----------------------+----------------------+
|    Environment     | compressdev_zlib_pmd | dpdk_fips_validation |
+====================+======================+======================+
| Ubuntu 22.04 (ARM) | PASS                 | SKIPPED              |
+--------------------+----------------------+----------------------+
| Ubuntu 22.04       | PASS                 | SKIPPED              |
+--------------------+----------------------+----------------------+
| Ubuntu 20.04       | SKIPPED              | PASS                 |
+--------------------+----------------------+----------------------+
Ubuntu 22.04 (ARM)
	Kernel: 5.15.0-97-generic
	Compiler: gcc gcc (Ubuntu 11.4.0-1ubuntu1~22.04) 11.4.0
Ubuntu 22.04
	Kernel: 5.15.0-100-generic
	Compiler: gcc gcc (Ubuntu 11.4.0-1ubuntu1~22.04) 11.4.0
Ubuntu 20.04
	Kernel: 5.4.0-167-generic
	Compiler: gcc 9.4.0-1ubuntu1~20.04.1
To view detailed results, visit:
https://lab.dpdk.org/results/dashboard/patchsets/30754/
UNH-IOL DPDK Community Lab
To manage your email subscriptions, visit: 
https://lab.dpdk.org/results/dashboard/preferences/subscriptions/
    
    
More information about the test-report
mailing list