|SUCCESS| [GIT MASTER] e0f7ebe88ab4588dd352e9ec14270ce4e3b1470b
    dpdklab at iol.unh.edu 
    dpdklab at iol.unh.edu
       
    Sat Aug 10 08:47:44 CEST 2024
    
    
  
_Testing PASS_
Branch: dpdk-next-net
e0f7ebe88ab4588dd352e9ec14270ce4e3b1470b --> testing pass
Upstream job id: Windows-Compile-DPDK-Mingw64#21414
Test environment and result as below:
+---------------------+--------------------+----------------------+
|     Environment     | dpdk_meson_compile | dpdk_mingw64_compile |
+=====================+====================+======================+
| Windows Server 2019 | PASS               | PASS                 |
+---------------------+--------------------+----------------------+
| FreeBSD 13.3        | PASS               | SKIPPED              |
+---------------------+--------------------+----------------------+
Windows Server 2019
	Kernel: 10.0.17763
	Compiler: clang 14.0 and gcc 8.1.0 (MinGW)
FreeBSD 13.3
	Kernel: 13.3-RELEASE-p1
	Compiler: clang 17.0.6
To view detailed results, visit:
https://lab.dpdk.org/results/dashboard/tarballs/30200/
UNH-IOL DPDK Community Lab
To manage your email subscriptions, visit: 
https://lab.dpdk.org/results/dashboard/preferences/subscriptions/
    
    
More information about the test-report
mailing list