|SUCCESS| pw143100 [PATCH] [v1] dts: add package mode config and upd
    dpdklab at iol.unh.edu 
    dpdklab at iol.unh.edu
       
    Mon Aug 12 20:37:10 CEST 2024
    
    
  
Test-Label: iol-sample-apps-testing
Test-Status: SUCCESS
http://dpdk.org/patch/143100
_Testing PASS_
Submitter: Dean Marx <dmarx at iol.unh.edu>
Date: Monday, August 12 2024 16:35:38 
DPDK git baseline: Repo:dpdk
  Branch: master
  CommitID:cb9187bc5c2b4bab0ad80194ac3b60491de14e8c
143100 --> testing pass
Upstream job id: ACVP-FIPS-testing#6606
Test environment and result as below:
+--------------------+----------------------+----------------------+
|    Environment     | dpdk_fips_validation | compressdev_zlib_pmd |
+====================+======================+======================+
| Ubuntu 20.04       | PASS                 | SKIPPED              |
+--------------------+----------------------+----------------------+
| Ubuntu 22.04 (ARM) | SKIPPED              | PASS                 |
+--------------------+----------------------+----------------------+
| Ubuntu 22.04       | SKIPPED              | PASS                 |
+--------------------+----------------------+----------------------+
Ubuntu 20.04
	Kernel: 5.4.0-167-generic
	Compiler: gcc 9.4.0-1ubuntu1~20.04.1
Ubuntu 22.04 (ARM)
	Kernel: 5.15.0-97-generic
	Compiler: gcc gcc (Ubuntu 11.4.0-1ubuntu1~22.04) 11.4.0
Ubuntu 22.04
	Kernel: 5.15.0-100-generic
	Compiler: gcc gcc (Ubuntu 11.4.0-1ubuntu1~22.04) 11.4.0
To view detailed results, visit:
https://lab.dpdk.org/results/dashboard/patchsets/30775/
UNH-IOL DPDK Community Lab
To manage your email subscriptions, visit: 
https://lab.dpdk.org/results/dashboard/preferences/subscriptions/
    
    
More information about the test-report
mailing list