|SUCCESS| [GIT MASTER] a6ec5765cf83d3d58cbd6d4ed5b92b4a06f8a808
    dpdklab at iol.unh.edu 
    dpdklab at iol.unh.edu
       
    Wed Aug 14 08:38:45 CEST 2024
    
    
  
_Testing PASS_
Branch: tags/v23.11
a6ec5765cf83d3d58cbd6d4ed5b92b4a06f8a808 --> testing pass
Upstream job id: Windows-Compile-DPDK-Native#21500
Test environment and result as below:
+---------------------+-------------------+--------------------+----------------------+-----------------------+
|     Environment     | dpdk_msvc_compile | dpdk_meson_compile | dpdk_mingw64_compile | dpdk_win_llvm_compile |
+=====================+===================+====================+======================+=======================+
| Windows Server 2022 | PASS              | SKIPPED            | PASS                 | PASS                  |
+---------------------+-------------------+--------------------+----------------------+-----------------------+
| FreeBSD 13.3        | SKIPPED           | PASS               | SKIPPED              | SKIPPED               |
+---------------------+-------------------+--------------------+----------------------+-----------------------+
| FreeBSD 14.1        | SKIPPED           | PASS               | SKIPPED              | SKIPPED               |
+---------------------+-------------------+--------------------+----------------------+-----------------------+
Windows Server 2022
	Kernel: 10.0.20348.2031
	Compiler: clang 15.0.7, gcc 8.1.0 (MinGW), and MSVC VS 17.9
FreeBSD 13.3
	Kernel: 13.3-RELEASE-p1
	Compiler: clang 17.0.6
FreeBSD 14.1
	Kernel: 14.1
	Compiler: clang 18.1.5
To view detailed results, visit:
https://lab.dpdk.org/results/dashboard/tarballs/30243/
UNH-IOL DPDK Community Lab
To manage your email subscriptions, visit: 
https://lab.dpdk.org/results/dashboard/preferences/subscriptions/
    
    
More information about the test-report
mailing list