|PENDING| [GIT MASTER] cb9187bc5c2b4bab0ad80194ac3b60491de14e8c
    dpdklab at iol.unh.edu 
    dpdklab at iol.unh.edu
       
    Wed Aug 14 20:06:42 CEST 2024
    
    
  
_Testing pending_
Branch: dpdk-next-eventdev
cb9187bc5c2b4bab0ad80194ac3b60491de14e8c --> testing pending
Upstream job id: Generic-DPDK-Compile-Meson#288598
Test environment and result as below:
+---------------------+--------------------+------------------+-------------------+----------------------+-----------------------+-------------------+
|     Environment     | dpdk_meson_compile | dpdk_compile_ovs | dpdk_compile_spdk | dpdk_mingw64_compile | dpdk_win_llvm_compile | dpdk_msvc_compile |
+=====================+====================+==================+===================+======================+=======================+===================+
| CentOS Stream 9     | PASS               | PASS             | PASS              | SKIPPED              | SKIPPED               | SKIPPED           |
+---------------------+--------------------+------------------+-------------------+----------------------+-----------------------+-------------------+
| Debian Bullseye     | PASS               | PASS             | PASS              | SKIPPED              | SKIPPED               | SKIPPED           |
+---------------------+--------------------+------------------+-------------------+----------------------+-----------------------+-------------------+
| Debian 12           | PASS               | PASS             | PASS              | SKIPPED              | SKIPPED               | SKIPPED           |
+---------------------+--------------------+------------------+-------------------+----------------------+-----------------------+-------------------+
| Fedora 37           | PASS               | PASS             | PASS              | SKIPPED              | SKIPPED               | SKIPPED           |
+---------------------+--------------------+------------------+-------------------+----------------------+-----------------------+-------------------+
| Fedora 38           | PASS               | PASS             | PASS              | SKIPPED              | SKIPPED               | SKIPPED           |
+---------------------+--------------------+------------------+-------------------+----------------------+-----------------------+-------------------+
| Fedora 40 (Clang)   | PASS               | PASS             | PASS              | SKIPPED              | SKIPPED               | SKIPPED           |
+---------------------+--------------------+------------------+-------------------+----------------------+-----------------------+-------------------+
| Fedora 38 (Clang)   | PASS               | PASS             | PASS              | SKIPPED              | SKIPPED               | SKIPPED           |
+---------------------+--------------------+------------------+-------------------+----------------------+-----------------------+-------------------+
| Fedora 39 (Clang)   | PASS               | PASS             | PASS              | SKIPPED              | SKIPPED               | SKIPPED           |
+---------------------+--------------------+------------------+-------------------+----------------------+-----------------------+-------------------+
| Fedora 39           | PASS               | PASS             | PASS              | SKIPPED              | SKIPPED               | SKIPPED           |
+---------------------+--------------------+------------------+-------------------+----------------------+-----------------------+-------------------+
| RHEL9               | PASS               | PASS             | SKIPPED           | SKIPPED              | SKIPPED               | SKIPPED           |
+---------------------+--------------------+------------------+-------------------+----------------------+-----------------------+-------------------+
| openSUSE Leap 15    | PASS               | PASS             | SKIPPED           | SKIPPED              | SKIPPED               | SKIPPED           |
+---------------------+--------------------+------------------+-------------------+----------------------+-----------------------+-------------------+
| Fedora 40           | PASS               | PASS             | PASS              | SKIPPED              | SKIPPED               | SKIPPED           |
+---------------------+--------------------+------------------+-------------------+----------------------+-----------------------+-------------------+
| Ubuntu 20.04        | PASS               | PASS             | SKIPPED           | SKIPPED              | SKIPPED               | SKIPPED           |
+---------------------+--------------------+------------------+-------------------+----------------------+-----------------------+-------------------+
| RHEL8               | PASS               | PASS             | SKIPPED           | SKIPPED              | SKIPPED               | SKIPPED           |
+---------------------+--------------------+------------------+-------------------+----------------------+-----------------------+-------------------+
| Ubuntu 22.04        | PASS               | PASS             | PASS              | SKIPPED              | SKIPPED               | SKIPPED           |
+---------------------+--------------------+------------------+-------------------+----------------------+-----------------------+-------------------+
| Ubuntu 24.04        | PASS               | PASS             | PASS              | SKIPPED              | SKIPPED               | SKIPPED           |
+---------------------+--------------------+------------------+-------------------+----------------------+-----------------------+-------------------+
| Alpine              | PEND               | PEND             | SKIPPED           | SKIPPED              | SKIPPED               | SKIPPED           |
+---------------------+--------------------+------------------+-------------------+----------------------+-----------------------+-------------------+
| FreeBSD 13.3        | PASS               | SKIPPED          | SKIPPED           | SKIPPED              | SKIPPED               | SKIPPED           |
+---------------------+--------------------+------------------+-------------------+----------------------+-----------------------+-------------------+
| FreeBSD 14.1        | PASS               | SKIPPED          | SKIPPED           | SKIPPED              | SKIPPED               | SKIPPED           |
+---------------------+--------------------+------------------+-------------------+----------------------+-----------------------+-------------------+
| Windows Server 2022 | SKIPPED            | SKIPPED          | SKIPPED           | PASS                 | PASS                  | PASS              |
+---------------------+--------------------+------------------+-------------------+----------------------+-----------------------+-------------------+
CentOS Stream 9
	Kernel: 5.4.0-167-generic
	Compiler: gcc 11.4.1 20230605
Debian Bullseye
	Kernel: 5.4.0-167-generic
	Compiler: gcc 10.2.1-6
Debian 12
	Kernel: Container Host Kernel
	Compiler: gcc 12.2.0
Fedora 37
	Kernel: Depends on container host system
	Compiler: gcc 12.3.1
Fedora 38
	Kernel: Depends on container host
	Compiler: gcc 13.2.1
Fedora 40 (Clang)
	Kernel: Depends on container host
	Compiler: clang 18.1.6
Fedora 38 (Clang)
	Kernel: Depends on container host
	Compiler: clang 16.0.6
Fedora 39 (Clang)
	Kernel: Depends on container host
	Compiler: clang 17.0.6
Fedora 39
	Kernel: Depends on container host
	Compiler: gcc 13.2.1
RHEL9
	Kernel: Depends on container host
	Compiler: gcc 11.4.1
openSUSE Leap 15
	Kernel: 5.4.0-167-generic
	Compiler: gcc 7.5.0
Fedora 40
	Kernel: Depends on container host
	Compiler: gcc 14.1.1
Ubuntu 20.04
	Kernel: 5.4.0-167-generic
	Compiler: gcc 9.4.0-1ubuntu1~20.04.1
RHEL8
	Kernel: 5.4.0-167-generic
	Compiler: gcc 8.5.0 20210514 (Red Hat 8.5.0-20)
Ubuntu 22.04
	Kernel: 5.4.0-167-generic
	Compiler: gcc 11.4.0
Ubuntu 24.04
	Kernel: 5.4.0-167-generic
	Compiler: gcc 13.2.0
Alpine
	Kernel: 5.4.0-167-generic
	Compiler: gcc (Alpine 13.2.1_git20231014) 13.2.1 20231014
FreeBSD 13.3
	Kernel: 13.3-RELEASE-p1
	Compiler: clang 17.0.6
FreeBSD 14.1
	Kernel: 14.1
	Compiler: clang 18.1.5
Windows Server 2022
	Kernel: 10.0.20348.2031
	Compiler: clang 15.0.7, gcc 8.1.0 (MinGW), and MSVC VS 17.9
To view detailed results, visit:
https://lab.dpdk.org/results/dashboard/tarballs/30251/
UNH-IOL DPDK Community Lab
To manage your email subscriptions, visit: 
https://lab.dpdk.org/results/dashboard/preferences/subscriptions/
    
    
More information about the test-report
mailing list