|SUCCESS| [GIT MASTER] 2480dbd434234a40e7f999ced4650581fd64a24e
    dpdklab at iol.unh.edu 
    dpdklab at iol.unh.edu
       
    Fri Aug 16 09:59:35 CEST 2024
    
    
  
_Testing PASS_
Branch: tags/v22.11
2480dbd434234a40e7f999ced4650581fd64a24e --> testing pass
Upstream job id: Aarch32-Unit-Test#3018
Test environment and result as below:
+-----------------------------+--------------+---------------------------+----------------+------------------------------+
|         Environment         | lpm_autotest | cryptodev_sw_zuc_autotest | dpdk_unit_test | cryptodev_sw_snow3g_autotest |
+=============================+==============+===========================+================+==============================+
| Ubuntu 20.04 ARM SVE        | PASS         | SKIPPED                   | SKIPPED        | SKIPPED                      |
+-----------------------------+--------------+---------------------------+----------------+------------------------------+
| Debian 12 (arm)             | SKIPPED      | PASS                      | SKIPPED        | PASS                         |
+-----------------------------+--------------+---------------------------+----------------+------------------------------+
| 32-bit Ubuntu 20.04.4 (ARM) | SKIPPED      | SKIPPED                   | PASS           | SKIPPED                      |
+-----------------------------+--------------+---------------------------+----------------+------------------------------+
Ubuntu 20.04 ARM SVE
	Kernel: 5.4.0-167-generic
	Compiler: gcc (Ubuntu 10.5.0-1ubuntu1~20.04) 10.5.0
Debian 12 (arm)
	Kernel: Container Host Kernel
	Compiler: gcc 12.2.0
32-bit Ubuntu 20.04.4 (ARM)
	Kernel: 5.4.0-155-generic aarch64
	Compiler: gcc 9.4
To view detailed results, visit:
https://lab.dpdk.org/results/dashboard/tarballs/30268/
UNH-IOL DPDK Community Lab
To manage your email subscriptions, visit: 
https://lab.dpdk.org/results/dashboard/preferences/subscriptions/
    
    
More information about the test-report
mailing list