|SUCCESS| pw143193 [PATCH] net/bonding: add user callback for bond x
    dpdklab at iol.unh.edu 
    dpdklab at iol.unh.edu
       
    Fri Aug 16 19:05:43 CEST 2024
    
    
  
Test-Label: iol-compile-amd64-testing
Test-Status: SUCCESS
http://dpdk.org/patch/143193
_Testing PASS RETEST #1_
Submitter: Vignesh Purushotham Srinivas <vignesh.purushotham.srinivas at ericsson.com>
Date: Thursday, August 15 2024 12:10:14 
DPDK git baseline: Repo:dpdk
  Branch: master
  CommitID:e0f7ebe88ab4588dd352e9ec14270ce4e3b1470b
143193 --> testing pass
Upstream job id: Generic-DPDK-Compile-Meson#289400
Test environment and result as below:
+---------------------+-----------------------+----------------------+--------------------+------------------+-------------------+-------------------+
|     Environment     | dpdk_win_llvm_compile | dpdk_mingw64_compile | dpdk_meson_compile | dpdk_compile_ovs | dpdk_compile_spdk | dpdk_msvc_compile |
+=====================+=======================+======================+====================+==================+===================+===================+
| Windows Server 2022 | PASS                  | PASS                 | SKIPPED            | SKIPPED          | SKIPPED           | PASS              |
+---------------------+-----------------------+----------------------+--------------------+------------------+-------------------+-------------------+
| FreeBSD 13.3        | SKIPPED               | SKIPPED              | PASS               | SKIPPED          | SKIPPED           | SKIPPED           |
+---------------------+-----------------------+----------------------+--------------------+------------------+-------------------+-------------------+
| FreeBSD 14.1        | SKIPPED               | SKIPPED              | PASS               | SKIPPED          | SKIPPED           | SKIPPED           |
+---------------------+-----------------------+----------------------+--------------------+------------------+-------------------+-------------------+
| Debian Bullseye     | SKIPPED               | SKIPPED              | PASS               | PASS             | PASS              | SKIPPED           |
+---------------------+-----------------------+----------------------+--------------------+------------------+-------------------+-------------------+
| Debian 12           | SKIPPED               | SKIPPED              | PASS               | PASS             | PASS              | SKIPPED           |
+---------------------+-----------------------+----------------------+--------------------+------------------+-------------------+-------------------+
| Fedora 37           | SKIPPED               | SKIPPED              | PASS               | PASS             | PASS              | SKIPPED           |
+---------------------+-----------------------+----------------------+--------------------+------------------+-------------------+-------------------+
| Fedora 38 (Clang)   | SKIPPED               | SKIPPED              | PASS               | PASS             | PASS              | SKIPPED           |
+---------------------+-----------------------+----------------------+--------------------+------------------+-------------------+-------------------+
| Fedora 38           | SKIPPED               | SKIPPED              | PASS               | PASS             | PASS              | SKIPPED           |
+---------------------+-----------------------+----------------------+--------------------+------------------+-------------------+-------------------+
| Fedora 39 (Clang)   | SKIPPED               | SKIPPED              | PASS               | PASS             | PASS              | SKIPPED           |
+---------------------+-----------------------+----------------------+--------------------+------------------+-------------------+-------------------+
| Fedora 40           | SKIPPED               | SKIPPED              | PASS               | PASS             | PASS              | SKIPPED           |
+---------------------+-----------------------+----------------------+--------------------+------------------+-------------------+-------------------+
| Fedora 40 (Clang)   | SKIPPED               | SKIPPED              | PASS               | PASS             | PASS              | SKIPPED           |
+---------------------+-----------------------+----------------------+--------------------+------------------+-------------------+-------------------+
| Fedora 39           | SKIPPED               | SKIPPED              | PASS               | PASS             | PASS              | SKIPPED           |
+---------------------+-----------------------+----------------------+--------------------+------------------+-------------------+-------------------+
| openSUSE Leap 15    | SKIPPED               | SKIPPED              | PASS               | PASS             | SKIPPED           | SKIPPED           |
+---------------------+-----------------------+----------------------+--------------------+------------------+-------------------+-------------------+
| RHEL8               | SKIPPED               | SKIPPED              | PASS               | PASS             | SKIPPED           | SKIPPED           |
+---------------------+-----------------------+----------------------+--------------------+------------------+-------------------+-------------------+
| RHEL9               | SKIPPED               | SKIPPED              | PASS               | PASS             | SKIPPED           | SKIPPED           |
+---------------------+-----------------------+----------------------+--------------------+------------------+-------------------+-------------------+
| Ubuntu 20.04        | SKIPPED               | SKIPPED              | PASS               | PASS             | SKIPPED           | SKIPPED           |
+---------------------+-----------------------+----------------------+--------------------+------------------+-------------------+-------------------+
| Ubuntu 22.04        | SKIPPED               | SKIPPED              | PASS               | PASS             | PASS              | SKIPPED           |
+---------------------+-----------------------+----------------------+--------------------+------------------+-------------------+-------------------+
| Ubuntu 24.04        | SKIPPED               | SKIPPED              | PASS               | PASS             | PASS              | SKIPPED           |
+---------------------+-----------------------+----------------------+--------------------+------------------+-------------------+-------------------+
| Alpine              | SKIPPED               | SKIPPED              | PASS               | PASS             | SKIPPED           | SKIPPED           |
+---------------------+-----------------------+----------------------+--------------------+------------------+-------------------+-------------------+
| CentOS Stream 9     | SKIPPED               | SKIPPED              | PASS               | PASS             | PASS              | SKIPPED           |
+---------------------+-----------------------+----------------------+--------------------+------------------+-------------------+-------------------+
Windows Server 2022
	Kernel: 10.0.20348.2031
	Compiler: clang 15.0.7, gcc 8.1.0 (MinGW), and MSVC VS 17.9
FreeBSD 13.3
	Kernel: 13.3-RELEASE-p1
	Compiler: clang 17.0.6
FreeBSD 14.1
	Kernel: 14.1
	Compiler: clang 18.1.5
Debian Bullseye
	Kernel: 5.4.0-167-generic
	Compiler: gcc 10.2.1-6
Debian 12
	Kernel: Container Host Kernel
	Compiler: gcc 12.2.0
Fedora 37
	Kernel: Depends on container host system
	Compiler: gcc 12.3.1
Fedora 38 (Clang)
	Kernel: Depends on container host
	Compiler: clang 16.0.6
Fedora 38
	Kernel: Depends on container host
	Compiler: gcc 13.2.1
Fedora 39 (Clang)
	Kernel: Depends on container host
	Compiler: clang 17.0.6
Fedora 40
	Kernel: Depends on container host
	Compiler: gcc 14.1.1
Fedora 40 (Clang)
	Kernel: Depends on container host
	Compiler: clang 18.1.6
Fedora 39
	Kernel: Depends on container host
	Compiler: gcc 13.2.1
openSUSE Leap 15
	Kernel: 5.4.0-167-generic
	Compiler: gcc 7.5.0
RHEL8
	Kernel: 5.4.0-167-generic
	Compiler: gcc 8.5.0 20210514 (Red Hat 8.5.0-20)
RHEL9
	Kernel: Depends on container host
	Compiler: gcc 11.4.1
Ubuntu 20.04
	Kernel: 5.4.0-167-generic
	Compiler: gcc 9.4.0-1ubuntu1~20.04.1
Ubuntu 22.04
	Kernel: 5.4.0-167-generic
	Compiler: gcc 11.4.0
Ubuntu 24.04
	Kernel: 5.4.0-167-generic
	Compiler: gcc 13.2.0
Alpine
	Kernel: 5.4.0-167-generic
	Compiler: gcc (Alpine 13.2.1_git20231014) 13.2.1 20231014
CentOS Stream 9
	Kernel: 5.4.0-167-generic
	Compiler: gcc 11.4.1 20230605
To view detailed results, visit:
https://lab.dpdk.org/results/dashboard/patchsets/30798/
UNH-IOL DPDK Community Lab
To manage your email subscriptions, visit: 
https://lab.dpdk.org/results/dashboard/preferences/subscriptions/
    
    
More information about the test-report
mailing list