|SUCCESS| pw143246-143250 [PATCH] [v19,5/5] dts: add API doc generat
    dpdklab at iol.unh.edu 
    dpdklab at iol.unh.edu
       
    Thu Aug 22 03:28:55 CEST 2024
    
    
  
Test-Label: iol-compile-amd64-testing
Test-Status: SUCCESS
http://dpdk.org/patch/143250
_Testing PASS_
Submitter: Juraj Linkes <juraj.linkes at pantheon.tech>
Date: Wednesday, August 21 2024 15:02:54 
DPDK git baseline: Repo:dpdk
  Branch: master
  CommitID:cb9187bc5c2b4bab0ad80194ac3b60491de14e8c
143246-143250 --> testing pass
Upstream job id: Generic-DPDK-Compile-Meson#290463
Test environment and result as below:
+---------------------+--------------------+-----------------------+----------------------+-------------------+------------------+-------------------+
|     Environment     | dpdk_meson_compile | dpdk_win_llvm_compile | dpdk_mingw64_compile | dpdk_msvc_compile | dpdk_compile_ovs | dpdk_compile_spdk |
+=====================+====================+=======================+======================+===================+==================+===================+
| FreeBSD 13.3        | PASS               | SKIPPED               | SKIPPED              | SKIPPED           | SKIPPED          | SKIPPED           |
+---------------------+--------------------+-----------------------+----------------------+-------------------+------------------+-------------------+
| FreeBSD 14.1        | PASS               | SKIPPED               | SKIPPED              | SKIPPED           | SKIPPED          | SKIPPED           |
+---------------------+--------------------+-----------------------+----------------------+-------------------+------------------+-------------------+
| CentOS Stream 9     | PASS               | SKIPPED               | SKIPPED              | SKIPPED           | PASS             | PASS              |
+---------------------+--------------------+-----------------------+----------------------+-------------------+------------------+-------------------+
| Debian Bullseye     | PASS               | SKIPPED               | SKIPPED              | SKIPPED           | PASS             | PASS              |
+---------------------+--------------------+-----------------------+----------------------+-------------------+------------------+-------------------+
| Debian 12           | PASS               | SKIPPED               | SKIPPED              | SKIPPED           | PASS             | PASS              |
+---------------------+--------------------+-----------------------+----------------------+-------------------+------------------+-------------------+
| Fedora 37           | PASS               | SKIPPED               | SKIPPED              | SKIPPED           | PASS             | PASS              |
+---------------------+--------------------+-----------------------+----------------------+-------------------+------------------+-------------------+
| Fedora 38 (Clang)   | PASS               | SKIPPED               | SKIPPED              | SKIPPED           | PASS             | PASS              |
+---------------------+--------------------+-----------------------+----------------------+-------------------+------------------+-------------------+
| Windows Server 2022 | SKIPPED            | PASS                  | PASS                 | PASS              | SKIPPED          | SKIPPED           |
+---------------------+--------------------+-----------------------+----------------------+-------------------+------------------+-------------------+
FreeBSD 13.3
	Kernel: 13.3-RELEASE-p5
	Compiler: clang 17.0.6
FreeBSD 14.1
	Kernel: 14.1-RELEASE-p3
	Compiler: clang 18.1.5
CentOS Stream 9
	Kernel: Depends on container host
	Compiler: gcc 11.4.1 20231218 (Red Hat 11.4.1-3)
Debian Bullseye
	Kernel: Depends on container host
	Compiler: gcc (Debian 10.2.1-6) 10.2.1 20210110
Debian 12
	Kernel: Depends on container host
	Compiler: gcc (Debian 12.2.0-14) 12.2.0
Fedora 37
	Kernel: Depends on container host system
	Compiler: gcc 12.3.1 20230508 (Red Hat 12.3.1-1)
Fedora 38 (Clang)
	Kernel: Depends on container host
	Compiler: clang 16.0.6 (Fedora 16.0.6-4.fc38)
Windows Server 2022
	Kernel: 10.0.20348.2031
	Compiler: clang 15.0.7, gcc 14.1.0 (MinGW), and MSVC VS 19.39.33521
To view detailed results, visit:
https://lab.dpdk.org/results/dashboard/patchsets/30813/
UNH-IOL DPDK Community Lab
To manage your email subscriptions, visit: 
https://lab.dpdk.org/results/dashboard/preferences/subscriptions/
    
    
More information about the test-report
mailing list