|SUCCESS| pw143378 [PATCH] [v1] net/ice: fix incorrect reading of PH
    dpdklab at iol.unh.edu 
    dpdklab at iol.unh.edu
       
    Sat Aug 24 06:28:07 CEST 2024
    
    
  
Test-Label: iol-compile-amd64-testing
Test-Status: SUCCESS
http://dpdk.org/patch/143378
_Testing PASS_
Submitter: Soumyadeep Hore <soumyadeep.hore at intel.com>
Date: Friday, August 23 2024 11:01:33 
DPDK git baseline: Repo:dpdk
  Branch: master
  CommitID:22637bd9a8c26f20bf12b69f90f085d50eda9d66
143378 --> testing pass
Upstream job id: Generic-VM-DPDK-Compile-Meson#28914
Test environment and result as below:
+---------------------+----------------------+--------------------+
|     Environment     | dpdk_mingw64_compile | dpdk_meson_compile |
+=====================+======================+====================+
| Windows Server 2022 | PASS                 | SKIPPED            |
+---------------------+----------------------+--------------------+
| FreeBSD 13.3        | SKIPPED              | PASS               |
+---------------------+----------------------+--------------------+
| FreeBSD 14.1        | SKIPPED              | PASS               |
+---------------------+----------------------+--------------------+
Windows Server 2022
	Kernel: 10.0.20348.2031
	Compiler: clang 15.0.7, gcc 14.1.0 (MinGW), and MSVC VS 19.39.33521
FreeBSD 13.3
	Kernel: 13.3-RELEASE-p5
	Compiler: clang 17.0.6
FreeBSD 14.1
	Kernel: 14.1-RELEASE-p3
	Compiler: clang 18.1.5
To view detailed results, visit:
https://lab.dpdk.org/results/dashboard/patchsets/30846/
UNH-IOL DPDK Community Lab
To manage your email subscriptions, visit: 
https://lab.dpdk.org/results/dashboard/preferences/subscriptions/
    
    
More information about the test-report
mailing list