|SUCCESS| [GIT MASTER] a821cb060b64b04dbc415ac374df35a22ee06620

dpdklab at iol.unh.edu dpdklab at iol.unh.edu
Wed Dec 4 03:51:51 CET 2024


_Testing PASS_

Branch: 21.11-staging

a821cb060b64b04dbc415ac374df35a22ee06620 --> testing pass

Upstream job id: Windows-Compile-DPDK-Native#25135

Test environment and result as below:

+---------------------+--------------------+-----------------------+
|     Environment     | dpdk_meson_compile | dpdk_win_llvm_compile |
+=====================+====================+=======================+
| CentOS Stream 9     | PASS               | SKIPPED               |
+---------------------+--------------------+-----------------------+
| Fedora 39 (Clang)   | PASS               | SKIPPED               |
+---------------------+--------------------+-----------------------+
| Fedora 39           | PASS               | SKIPPED               |
+---------------------+--------------------+-----------------------+
| Fedora 40           | PASS               | SKIPPED               |
+---------------------+--------------------+-----------------------+
| Fedora 40 (Clang)   | PASS               | SKIPPED               |
+---------------------+--------------------+-----------------------+
| RHEL9               | PASS               | SKIPPED               |
+---------------------+--------------------+-----------------------+
| Ubuntu 22.04        | PASS               | SKIPPED               |
+---------------------+--------------------+-----------------------+
| openSUSE Leap 15    | PASS               | SKIPPED               |
+---------------------+--------------------+-----------------------+
| Ubuntu 20.04        | PASS               | SKIPPED               |
+---------------------+--------------------+-----------------------+
| FreeBSD 13.4        | PASS               | SKIPPED               |
+---------------------+--------------------+-----------------------+
| FreeBSD 14.1        | PASS               | SKIPPED               |
+---------------------+--------------------+-----------------------+
| Debian 12           | PASS               | SKIPPED               |
+---------------------+--------------------+-----------------------+
| Ubuntu 24.04        | PASS               | SKIPPED               |
+---------------------+--------------------+-----------------------+
| RHEL8               | PASS               | SKIPPED               |
+---------------------+--------------------+-----------------------+
| Windows Server 2022 | SKIPPED            | PASS                  |
+---------------------+--------------------+-----------------------+


CentOS Stream 9
	Kernel: Depends on container host
	Compiler: gcc 11.4.1 20231218 (Red Hat 11.4.1-3)

Fedora 39 (Clang)
	Kernel: Depends on container host
	Compiler: clang 17.0.6 (Fedora 17.0.6-2.fc39)

Fedora 39
	Kernel: Depends on container host
	Compiler: gcc 13.3.1 20240522 (Red Hat 13.3.1-1)

Fedora 40
	Kernel: Depends on container host
	Compiler: gcc 14.2.1 20240801 (Red Hat 14.2.1-1)

Fedora 40 (Clang)
	Kernel: Depends on container host
	Compiler: clang 18.1.6 (Fedora 18.1.6-3.fc40)

RHEL9
	Kernel: Depends on container host
	Compiler: gcc 11.4.1 20231218 (Red Hat 11.4.1-3)

Ubuntu 22.04
	Kernel: Depends on container host
	Compiler: gcc (Ubuntu 11.4.0-1ubuntu1~22.04) 11.4.0

openSUSE Leap 15
	Kernel: Depends on container host
	Compiler: gcc (SUSE Linux) 7.5.0

Ubuntu 20.04
	Kernel: Depends on container host
	Compiler: gcc (Ubuntu 9.4.0-1ubuntu1~20.04.2) 9.4.0

FreeBSD 13.4
	Kernel: 13.4-RELEASE-p1
	Compiler: clang 18.1.6

FreeBSD 14.1
	Kernel: 14.1-RELEASE-p3
	Compiler: clang 18.1.5

Debian 12
	Kernel: Depends on container host
	Compiler: gcc (Debian 12.2.0-14) 12.2.0

Ubuntu 24.04
	Kernel: Depends on container host
	Compiler: gcc (Ubuntu 13.2.0-23ubuntu4) 13.2.0

RHEL8
	Kernel: Depends on container host
	Compiler: gcc 8.5.0 20210514 (Red Hat 8.5.0-22)

Windows Server 2022
	Kernel: 10.0.20348.2031
	Compiler: clang 15.0.7, gcc 14.1.0 (MinGW), and MSVC VS 19.39.33521

To view detailed results, visit:
https://lab.dpdk.org/results/dashboard/tarballs/31824/

UNH-IOL DPDK Community Lab

To manage your email subscriptions, visit: 
https://lab.dpdk.org/results/dashboard/preferences/subscriptions/


More information about the test-report mailing list