|SUCCESS| pw149039 [PATCH] lib/gso: gso Adds the processing of IPV6

dpdklab at iol.unh.edu dpdklab at iol.unh.edu
Thu Dec 5 11:31:20 CET 2024


Test-Label: iol-sample-apps-testing
Test-Status: SUCCESS
http://dpdk.org/patch/149039

_Testing PASS_

Submitter: Caiqiang Liao <18859237562 at 163.com>
Date: Wednesday, December 04 2024 10:05:51 
DPDK git baseline: Repo:dpdk
  Branch: master
  CommitID:7df61db6c387703a36306c1aea92225921e2eeb2

149039 --> testing pass

Upstream job id: Template-DTS-Pipeline#201200

Test environment and result as below:

+--------------------+----------------------+----------------------+
|    Environment     | dpdk_fips_validation | compressdev_zlib_pmd |
+====================+======================+======================+
| Ubuntu 20.04       | PASS                 | SKIPPED              |
+--------------------+----------------------+----------------------+
| Ubuntu 22.04 (ARM) | SKIPPED              | PASS                 |
+--------------------+----------------------+----------------------+
| Ubuntu 22.04       | SKIPPED              | PASS                 |
+--------------------+----------------------+----------------------+


Ubuntu 20.04
	Kernel: Depends on container host
	Compiler: gcc (Ubuntu 9.4.0-1ubuntu1~20.04.2) 9.4.0

Ubuntu 22.04 (ARM)
	Kernel: 5.15.0-97-generic
	Compiler: gcc gcc (Ubuntu 11.4.0-1ubuntu1~22.04) 11.4.0

Ubuntu 22.04
	Kernel: 5.15.0-100-generic
	Compiler: gcc gcc (Ubuntu 11.4.0-1ubuntu1~22.04) 11.4.0

To view detailed results, visit:
https://lab.dpdk.org/results/dashboard/patchsets/32090/

UNH-IOL DPDK Community Lab

To manage your email subscriptions, visit: 
https://lab.dpdk.org/results/dashboard/preferences/subscriptions/


More information about the test-report mailing list