|SUCCESS| [GIT MASTER] 92bac8b798fa9c94bcf835bc49b4f16f1b0997fa
dpdklab at iol.unh.edu
dpdklab at iol.unh.edu
Sat Dec 14 10:11:29 CET 2024
_Testing PASS_
Branch: tags/v22.11
92bac8b798fa9c94bcf835bc49b4f16f1b0997fa --> testing pass
Upstream job id: Generic-Unit-Test-DPDK#299245
Test environment and result as below:
+----------------------+--------------+---------------------------+------------------------------+
| Environment | lpm_autotest | cryptodev_sw_zuc_autotest | cryptodev_sw_snow3g_autotest |
+======================+==============+===========================+==============================+
| Ubuntu 20.04 ARM SVE | PASS | SKIPPED | SKIPPED |
+----------------------+--------------+---------------------------+------------------------------+
| Debian 12 (arm) | SKIPPED | PASS | PASS |
+----------------------+--------------+---------------------------+------------------------------+
Ubuntu 20.04 ARM SVE
Kernel: Depends on container host
Compiler: gcc (Ubuntu 10.5.0-1ubuntu1~20.04) 10.5.0
Debian 12 (arm)
Kernel: Depends on container host
Compiler: gcc (Debian 12.2.0-14) 12.2.0
To view detailed results, visit:
https://lab.dpdk.org/results/dashboard/tarballs/31921/
UNH-IOL DPDK Community Lab
To manage your email subscriptions, visit:
https://lab.dpdk.org/results/dashboard/preferences/subscriptions/
More information about the test-report
mailing list