|WARNING| [GIT MASTER] f1e0472368d4dbb1da33ae68b18ca21bc8a55259

dpdklab at iol.unh.edu dpdklab at iol.unh.edu
Sat Dec 14 14:52:37 CET 2024


_Testing issues_

Branch: dpdk-next-net

f1e0472368d4dbb1da33ae68b18ca21bc8a55259 --> testing issues

Upstream job id: Generic-DPDK-Compile-Meson#343406

Test environment and result as below:

+-------------------+--------------------+------------------+-------------------+
|    Environment    | dpdk_meson_compile | dpdk_compile_ovs | dpdk_compile_spdk |
+===================+====================+==================+===================+
| Debian 12         | PASS               | PASS             | PASS              |
+-------------------+--------------------+------------------+-------------------+
| CentOS Stream 9   | PEND               | PEND             | PEND              |
+-------------------+--------------------+------------------+-------------------+
| Fedora 39 (Clang) | PEND               | PEND             | PEND              |
+-------------------+--------------------+------------------+-------------------+
| Fedora 40 (Clang) | PEND               | PEND             | PEND              |
+-------------------+--------------------+------------------+-------------------+
| openSUSE Leap 15  | PASS               | WARN             | SKIPPED           |
+-------------------+--------------------+------------------+-------------------+
| Ubuntu 20.04      | PEND               | PEND             | SKIPPED           |
+-------------------+--------------------+------------------+-------------------+
| RHEL8             | PEND               | PEND             | SKIPPED           |
+-------------------+--------------------+------------------+-------------------+
| Ubuntu 22.04      | PEND               | PEND             | PEND              |
+-------------------+--------------------+------------------+-------------------+
| Ubuntu 24.04      | PEND               | PEND             | PEND              |
+-------------------+--------------------+------------------+-------------------+
| Alpine            | PEND               | PEND             | SKIPPED           |
+-------------------+--------------------+------------------+-------------------+

==== 20 line log output for openSUSE Leap 15 (dpdk_compile_ovs): ====
 --- Failed to get log output --- 
==== End log output ====

Debian 12
	Kernel: Depends on container host
	Compiler: gcc (Debian 12.2.0-14) 12.2.0

CentOS Stream 9
	Kernel: Depends on container host
	Compiler: gcc 11.4.1 20231218 (Red Hat 11.4.1-3)

Fedora 39 (Clang)
	Kernel: Depends on container host
	Compiler: clang 17.0.6 (Fedora 17.0.6-2.fc39)

Fedora 40 (Clang)
	Kernel: Depends on container host
	Compiler: clang 18.1.6 (Fedora 18.1.6-3.fc40)

openSUSE Leap 15
	Kernel: Depends on container host
	Compiler: gcc (SUSE Linux) 7.5.0

Ubuntu 20.04
	Kernel: Depends on container host
	Compiler: gcc (Ubuntu 9.4.0-1ubuntu1~20.04.2) 9.4.0

RHEL8
	Kernel: Depends on container host
	Compiler: gcc 8.5.0 20210514 (Red Hat 8.5.0-22)

Ubuntu 22.04
	Kernel: Depends on container host
	Compiler: gcc (Ubuntu 11.4.0-1ubuntu1~22.04) 11.4.0

Ubuntu 24.04
	Kernel: Depends on container host
	Compiler: gcc (Ubuntu 13.2.0-23ubuntu4) 13.2.0

Alpine
	Kernel: Depends on container host
	Compiler: gcc (Alpine 13.2.1_git20240309) 13.2.1 20240309

To view detailed results, visit:
https://lab.dpdk.org/results/dashboard/tarballs/31925/

UNH-IOL DPDK Community Lab

To manage your email subscriptions, visit: 
https://lab.dpdk.org/results/dashboard/preferences/subscriptions/


More information about the test-report mailing list