|WARNING| pw149242-149243 [PATCH] [2/2] drivers/net/sfc: remove unus

dpdklab at iol.unh.edu dpdklab at iol.unh.edu
Sat Dec 14 16:39:31 CET 2024


Test-Label: iol-sample-apps-testing
Test-Status: WARNING
http://dpdk.org/patch/149243

_Testing issues_

Submitter: Ariel Otilibili <otilibil at eurecom.fr>
Date: Friday, December 13 2024 21:41:55 
DPDK git baseline: Repo:dpdk
  Branch: master
  CommitID:f1e0472368d4dbb1da33ae68b18ca21bc8a55259

149242-149243 --> testing issues

Upstream job id: ACVP-FIPS-testing#8281

Test environment and result as below:

+--------------------+----------------------+----------------------+
|    Environment     | compressdev_zlib_pmd | dpdk_fips_validation |
+====================+======================+======================+
| Ubuntu 22.04 (ARM) | PASS                 | SKIPPED              |
+--------------------+----------------------+----------------------+
| Ubuntu 22.04       | PASS                 | SKIPPED              |
+--------------------+----------------------+----------------------+
| Ubuntu 20.04       | SKIPPED              | WARN                 |
+--------------------+----------------------+----------------------+

==== 20 line log output for Ubuntu 20.04 (dpdk_fips_validation): ====
[3144/3162] Compiling C object app/dpdk-test.p/test_test_version.c.o
[3145/3162] Compiling C object app/dpdk-test.p/test_test_vdev.c.o
[3146/3162] Compiling C object app/dpdk-test.p/test_test_timer_racecond.c.o
[3147/3162] Compiling C object app/dpdk-test.p/test_test_thash.c.o
[3148/3162] Compiling C object app/dpdk-test.p/test_test_trace_register.c.o
[3149/3162] Compiling C object app/dpdk-test.p/test_test_trace.c.o
[3150/3162] Compiling C object app/dpdk-test.p/test_test_timer_secondary.c.o
[3151/3162] Compiling C object examples/dpdk-fips_validation.p/fips_validation_fips_validation_eddsa.c.o
[3152/3162] Compiling C object examples/dpdk-fips_validation.p/fips_validation_fips_validation_rsa.c.o
[3153/3162] Compiling C object examples/dpdk-fips_validation.p/fips_validation_fips_validation_ecdsa.c.o
[3154/3162] Compiling C object app/dpdk-test.p/test_test_table_combined.c.o
[3155/3162] Compiling C object examples/dpdk-fips_validation.p/fips_validation_fips_dev_self_test.c.o
[3156/3162] Compiling C object examples/dpdk-fips_validation.p/fips_validation_main.c.o
[3157/3162] Compiling C object app/dpdk-test.p/test_virtual_pmd.c.o
[3158/3162] Linking target examples/dpdk-fips_validation
[3159/3162] Compiling C object app/dpdk-test.p/test_test_trace_perf.c.o
[3160/3162] Compiling C object app/dpdk-test.p/test_test_ring_perf.c.o
[3161/3162] Compiling C object app/dpdk-test.p/test_test_ring.c.o
[3162/3162] Linking target app/dpdk-test
Processing file ../out/acvp-aes-cbc-vectors.json... Processing file ../out/cmac-aes-vectors.json... Processing file ../out/acvp-aes-gmac-vectors.json... Processing file ../out/hmac-sha-1-vectors.json... Processing file ../out/acvp-tdes-cbc-vectors.json... Processing file ../out/acvp-aes-ctr-vectors.json...
==== End log output ====

Ubuntu 22.04 (ARM)
	Kernel: 5.15.0-97-generic
	Compiler: gcc gcc (Ubuntu 11.4.0-1ubuntu1~22.04) 11.4.0

Ubuntu 22.04
	Kernel: 5.15.0-100-generic
	Compiler: gcc gcc (Ubuntu 11.4.0-1ubuntu1~22.04) 11.4.0

Ubuntu 20.04
	Kernel: Depends on container host
	Compiler: gcc (Ubuntu 9.4.0-1ubuntu1~20.04.2) 9.4.0

To view detailed results, visit:
https://lab.dpdk.org/results/dashboard/patchsets/32144/

UNH-IOL DPDK Community Lab

To manage your email subscriptions, visit: 
https://lab.dpdk.org/results/dashboard/preferences/subscriptions/


More information about the test-report mailing list