|WARNING| pw149259 [PATCH] [v2] eventdev: add port attribute for ind

dpdklab at iol.unh.edu dpdklab at iol.unh.edu
Mon Dec 16 23:39:27 CET 2024


Test-Label: iol-compile-amd64-testing
Test-Status: WARNING
http://dpdk.org/patch/149259

_Testing issues_

Submitter: Pravin Pathak <pravin.pathak at intel.com>
Date: Monday, December 16 2024 20:33:13 
DPDK git baseline: Repo:dpdk
  Branch: master
  CommitID:1b3bf1128d9bda5595861814792f74b8f57160c8

149259 --> testing issues

Upstream job id: Generic-DPDK-Compile-Meson#343920

Test environment and result as below:

+-------------------+--------------------+------------------+-------------------+
|    Environment    | dpdk_meson_compile | dpdk_compile_ovs | dpdk_compile_spdk |
+===================+====================+==================+===================+
| CentOS Stream 9   | PASS               | PASS             | PASS              |
+-------------------+--------------------+------------------+-------------------+
| Fedora 39 (Clang) | PEND               | PEND             | PEND              |
+-------------------+--------------------+------------------+-------------------+
| Fedora 39         | PEND               | PEND             | PEND              |
+-------------------+--------------------+------------------+-------------------+
| openSUSE Leap 15  | PASS               | WARN             | SKIPPED           |
+-------------------+--------------------+------------------+-------------------+
| RHEL9             | PEND               | PEND             | SKIPPED           |
+-------------------+--------------------+------------------+-------------------+
| Ubuntu 22.04      | PEND               | PEND             | PEND              |
+-------------------+--------------------+------------------+-------------------+

==== 20 line log output for openSUSE Leap 15 (dpdk_compile_ovs): ====
 --- Failed to get log output --- 
==== End log output ====

CentOS Stream 9
	Kernel: Depends on container host
	Compiler: gcc 11.4.1 20231218 (Red Hat 11.4.1-3)

Fedora 39 (Clang)
	Kernel: Depends on container host
	Compiler: clang 17.0.6 (Fedora 17.0.6-2.fc39)

Fedora 39
	Kernel: Depends on container host
	Compiler: gcc 13.3.1 20240522 (Red Hat 13.3.1-1)

openSUSE Leap 15
	Kernel: Depends on container host
	Compiler: gcc (SUSE Linux) 7.5.0

RHEL9
	Kernel: Depends on container host
	Compiler: gcc 11.4.1 20231218 (Red Hat 11.4.1-3)

Ubuntu 22.04
	Kernel: Depends on container host
	Compiler: gcc (Ubuntu 11.4.0-1ubuntu1~22.04) 11.4.0

To view detailed results, visit:
https://lab.dpdk.org/results/dashboard/patchsets/32150/

UNH-IOL DPDK Community Lab

To manage your email subscriptions, visit: 
https://lab.dpdk.org/results/dashboard/preferences/subscriptions/


More information about the test-report mailing list