|WARNING| [GIT MASTER] 78d0246a2e2fb14cba220d507192d12d2ce896ac
dpdklab at iol.unh.edu
dpdklab at iol.unh.edu
Tue Dec 17 11:45:42 CET 2024
_Testing issues_
Branch: dpdk-next-net
78d0246a2e2fb14cba220d507192d12d2ce896ac --> testing issues
Upstream job id: Generic-DPDK-Compile-Meson#344053
Test environment and result as below:
+-------------------+--------------------+------------------+-------------------+
| Environment | dpdk_meson_compile | dpdk_compile_ovs | dpdk_compile_spdk |
+===================+====================+==================+===================+
| Debian 12 | PASS | PASS | PASS |
+-------------------+--------------------+------------------+-------------------+
| Fedora 40 (Clang) | PEND | PEND | PEND |
+-------------------+--------------------+------------------+-------------------+
| Fedora 40 | PASS | PASS | PASS |
+-------------------+--------------------+------------------+-------------------+
| openSUSE Leap 15 | PEND | PEND | SKIPPED |
+-------------------+--------------------+------------------+-------------------+
| RHEL8 | PASS | PASS | SKIPPED |
+-------------------+--------------------+------------------+-------------------+
| Ubuntu 20.04 | PASS | WARN | SKIPPED |
+-------------------+--------------------+------------------+-------------------+
| Ubuntu 22.04 | PEND | PEND | PEND |
+-------------------+--------------------+------------------+-------------------+
| Ubuntu 24.04 | PEND | PEND | PEND |
+-------------------+--------------------+------------------+-------------------+
| Alpine | PEND | PEND | SKIPPED |
+-------------------+--------------------+------------------+-------------------+
==== 20 line log output for Ubuntu 20.04 (dpdk_compile_ovs): ====
--- Failed to get log output ---
==== End log output ====
Debian 12
Kernel: Depends on container host
Compiler: gcc (Debian 12.2.0-14) 12.2.0
Fedora 40 (Clang)
Kernel: Depends on container host
Compiler: clang 18.1.6 (Fedora 18.1.6-3.fc40)
Fedora 40
Kernel: Depends on container host
Compiler: gcc 14.2.1 20240801 (Red Hat 14.2.1-1)
openSUSE Leap 15
Kernel: Depends on container host
Compiler: gcc (SUSE Linux) 7.5.0
RHEL8
Kernel: Depends on container host
Compiler: gcc 8.5.0 20210514 (Red Hat 8.5.0-22)
Ubuntu 20.04
Kernel: Depends on container host
Compiler: gcc (Ubuntu 9.4.0-1ubuntu1~20.04.2) 9.4.0
Ubuntu 22.04
Kernel: Depends on container host
Compiler: gcc (Ubuntu 11.4.0-1ubuntu1~22.04) 11.4.0
Ubuntu 24.04
Kernel: Depends on container host
Compiler: gcc (Ubuntu 13.2.0-23ubuntu4) 13.2.0
Alpine
Kernel: Depends on container host
Compiler: gcc (Alpine 13.2.1_git20240309) 13.2.1 20240309
To view detailed results, visit:
https://lab.dpdk.org/results/dashboard/tarballs/31949/
UNH-IOL DPDK Community Lab
To manage your email subscriptions, visit:
https://lab.dpdk.org/results/dashboard/preferences/subscriptions/
More information about the test-report
mailing list