|WARNING| pw149284 [PATCH] net/virtio: fix Rx checksum calculation

dpdklab at iol.unh.edu dpdklab at iol.unh.edu
Tue Dec 17 21:08:12 CET 2024


Test-Label: iol-compile-amd64-testing
Test-Status: WARNING
http://dpdk.org/patch/149284

_Testing issues_

Submitter: Maxime Coquelin <maxime.coquelin at redhat.com>
Date: Tuesday, December 17 2024 15:32:53 
DPDK git baseline: Repo:dpdk
  Branch: master
  CommitID:510b460e02594a70d4ce19e2d29df3ade8af36d7

149284 --> testing issues

Upstream job id: Generic-DPDK-Compile-Meson#344170

Test environment and result as below:

+-------------------+--------------------+------------------+-------------------+
|    Environment    | dpdk_meson_compile | dpdk_compile_ovs | dpdk_compile_spdk |
+===================+====================+==================+===================+
| Fedora 39 (Clang) | PASS               | PASS             | PASS              |
+-------------------+--------------------+------------------+-------------------+
| Fedora 39         | PASS               | PASS             | PASS              |
+-------------------+--------------------+------------------+-------------------+
| openSUSE Leap 15  | PASS               | WARN             | SKIPPED           |
+-------------------+--------------------+------------------+-------------------+
| RHEL9             | PASS               | PASS             | SKIPPED           |
+-------------------+--------------------+------------------+-------------------+
| Ubuntu 20.04      | PASS               | WARN             | SKIPPED           |
+-------------------+--------------------+------------------+-------------------+
| Ubuntu 22.04      | PASS               | PASS             | PASS              |
+-------------------+--------------------+------------------+-------------------+
| Ubuntu 24.04      | PASS               | PASS             | PASS              |
+-------------------+--------------------+------------------+-------------------+
| Alpine            | PASS               | PASS             | SKIPPED           |
+-------------------+--------------------+------------------+-------------------+
| FreeBSD 13.4      | PASS               | SKIPPED          | SKIPPED           |
+-------------------+--------------------+------------------+-------------------+
| FreeBSD 14.2      | PASS               | SKIPPED          | SKIPPED           |
+-------------------+--------------------+------------------+-------------------+

==== 20 line log output for Ubuntu 20.04 (dpdk_compile_ovs): ====
 --- Failed to get log output --- 
==== End log output ====

Fedora 39 (Clang)
	Kernel: Depends on container host
	Compiler: clang 17.0.6 (Fedora 17.0.6-2.fc39)

Fedora 39
	Kernel: Depends on container host
	Compiler: gcc 13.3.1 20240522 (Red Hat 13.3.1-1)

openSUSE Leap 15
	Kernel: Depends on container host
	Compiler: gcc (SUSE Linux) 7.5.0

RHEL9
	Kernel: Depends on container host
	Compiler: gcc 11.4.1 20231218 (Red Hat 11.4.1-3)

Ubuntu 20.04
	Kernel: Depends on container host
	Compiler: gcc (Ubuntu 9.4.0-1ubuntu1~20.04.2) 9.4.0

Ubuntu 22.04
	Kernel: Depends on container host
	Compiler: gcc (Ubuntu 11.4.0-1ubuntu1~22.04) 11.4.0

Ubuntu 24.04
	Kernel: Depends on container host
	Compiler: gcc (Ubuntu 13.2.0-23ubuntu4) 13.2.0

Alpine
	Kernel: Depends on container host
	Compiler: gcc (Alpine 13.2.1_git20240309) 13.2.1 20240309

FreeBSD 13.4
	Kernel: 13.4-RELEASE-p1
	Compiler: clang 18.1.6

FreeBSD 14.2
	Kernel: 14.2-RELEASE
	Compiler: clang 18.1.6

To view detailed results, visit:
https://lab.dpdk.org/results/dashboard/patchsets/32153/

UNH-IOL DPDK Community Lab

To manage your email subscriptions, visit: 
https://lab.dpdk.org/results/dashboard/preferences/subscriptions/


More information about the test-report mailing list