|WARNING| [GIT MASTER] 78d0246a2e2fb14cba220d507192d12d2ce896ac

dpdklab at iol.unh.edu dpdklab at iol.unh.edu
Tue Dec 17 23:56:38 CET 2024


_Testing issues_

Branch: dpdk-next-net

78d0246a2e2fb14cba220d507192d12d2ce896ac --> testing issues

Upstream job id: Generic-DPDK-Compile-Meson#344187

Test environment and result as below:

+-------------------+--------------------+------------------+-------------------+
|    Environment    | dpdk_meson_compile | dpdk_compile_ovs | dpdk_compile_spdk |
+===================+====================+==================+===================+
| Debian 12         | PASS               | PASS             | PASS              |
+-------------------+--------------------+------------------+-------------------+
| Fedora 39         | PASS               | PASS             | PASS              |
+-------------------+--------------------+------------------+-------------------+
| Fedora 40 (Clang) | PEND               | PEND             | PEND              |
+-------------------+--------------------+------------------+-------------------+
| openSUSE Leap 15  | PASS               | WARN             | SKIPPED           |
+-------------------+--------------------+------------------+-------------------+
| RHEL8             | PEND               | PEND             | SKIPPED           |
+-------------------+--------------------+------------------+-------------------+
| RHEL9             | PEND               | PEND             | SKIPPED           |
+-------------------+--------------------+------------------+-------------------+

==== 20 line log output for openSUSE Leap 15 (dpdk_compile_ovs): ====
 --- Failed to get log output --- 
==== End log output ====

Debian 12
	Kernel: Depends on container host
	Compiler: gcc (Debian 12.2.0-14) 12.2.0

Fedora 39
	Kernel: Depends on container host
	Compiler: gcc 13.3.1 20240522 (Red Hat 13.3.1-1)

Fedora 40 (Clang)
	Kernel: Depends on container host
	Compiler: clang 18.1.6 (Fedora 18.1.6-3.fc40)

openSUSE Leap 15
	Kernel: Depends on container host
	Compiler: gcc (SUSE Linux) 7.5.0

RHEL8
	Kernel: Depends on container host
	Compiler: gcc 8.5.0 20210514 (Red Hat 8.5.0-22)

RHEL9
	Kernel: Depends on container host
	Compiler: gcc 11.4.1 20231218 (Red Hat 11.4.1-3)

To view detailed results, visit:
https://lab.dpdk.org/results/dashboard/tarballs/31955/

UNH-IOL DPDK Community Lab

To manage your email subscriptions, visit: 
https://lab.dpdk.org/results/dashboard/preferences/subscriptions/


More information about the test-report mailing list