|SUCCESS| [GIT MASTER] 1b3bf1128d9bda5595861814792f74b8f57160c8

dpdklab at iol.unh.edu dpdklab at iol.unh.edu
Wed Dec 18 04:50:49 CET 2024


_Testing PASS_

Branch: dpdk-next-eventdev

1b3bf1128d9bda5595861814792f74b8f57160c8 --> testing pass

Upstream job id: Generic-Unit-Test-DPDK#300009

Test environment and result as below:

+-----------------------+----------------+
|      Environment      | dpdk_unit_test |
+=======================+================+
| Debian 12 (arm)       | PASS           |
+-----------------------+----------------+
| CentOS Stream 9 (ARM) | PASS           |
+-----------------------+----------------+
| Fedora 39 (ARM)       | PASS           |
+-----------------------+----------------+
| Fedora 40 (ARM)       | PASS           |
+-----------------------+----------------+
| Fedora 39 (ARM Clang) | PASS           |
+-----------------------+----------------+
| Fedora 40 (ARM Clang) | PASS           |
+-----------------------+----------------+
| RHEL9 (ARM)           | PASS           |
+-----------------------+----------------+
| Ubuntu 20.04 (ARM)    | PASS           |
+-----------------------+----------------+
| Ubuntu 22.04 (ARM)    | PASS           |
+-----------------------+----------------+
| Ubuntu 24.04 (ARM)    | PASS           |
+-----------------------+----------------+


Debian 12 (arm)
	Kernel: Depends on container host
	Compiler: gcc (Debian 12.2.0-14) 12.2.0

CentOS Stream 9 (ARM)
	Kernel: Depends on container host
	Compiler: gcc 11.4.1 20231218 (Red Hat 11.4.1-3)

Fedora 39 (ARM)
	Kernel: Depends on container host
	Compiler: gcc 13.3.1 20240522 (Red Hat 13.3.1-1)

Fedora 40 (ARM)
	Kernel: Depends on container host
	Compiler: gcc 14.2.1 20240801 (Red Hat 14.2.1-1)

Fedora 39 (ARM Clang)
	Kernel: Depends on container host
	Compiler: clang 17.0.6 (Fedora 17.0.6-2.fc39)

Fedora 40 (ARM Clang)
	Kernel: Depends on container host
	Compiler: clang 18.1.6 (Fedora 18.1.6-3.fc40)

RHEL9 (ARM)
	Kernel: Depends on container host
	Compiler: gcc 11.4.1 20231218 (Red Hat 11.4.1-3)

Ubuntu 20.04 (ARM)
	Kernel: Depends on container host
	Compiler: gcc (Ubuntu 9.4.0-1ubuntu1~20.04.2) 9.4.0

Ubuntu 22.04 (ARM)
	Kernel: Depends on container host
	Compiler: gcc (Ubuntu 11.4.0-1ubuntu1~22.04) 11.4.0

Ubuntu 24.04 (ARM)
	Kernel: Depends on container host
	Compiler: gcc (Ubuntu 13.2.0-23ubuntu4) 13.2.0

To view detailed results, visit:
https://lab.dpdk.org/results/dashboard/tarballs/31958/

UNH-IOL DPDK Community Lab

To manage your email subscriptions, visit: 
https://lab.dpdk.org/results/dashboard/preferences/subscriptions/


More information about the test-report mailing list