|SUCCESS| [GIT MASTER] 4dc4e33ffa108e945fc8a1e2bbc7819791faa61e

dpdklab at iol.unh.edu dpdklab at iol.unh.edu
Wed Dec 18 08:07:11 CET 2024


_Testing PASS_

Branch: dpdk

4dc4e33ffa108e945fc8a1e2bbc7819791faa61e --> testing pass

Upstream job id: Generic-DPDK-Compile-Meson#344324

Test environment and result as below:

+-------------------+--------------------+------------------+-------------------+
|    Environment    | dpdk_meson_compile | dpdk_compile_ovs | dpdk_compile_spdk |
+===================+====================+==================+===================+
| Fedora 39 (Clang) | PASS               | PASS             | PASS              |
+-------------------+--------------------+------------------+-------------------+
| Fedora 39         | PASS               | PASS             | PASS              |
+-------------------+--------------------+------------------+-------------------+


Fedora 39 (Clang)
	Kernel: Depends on container host
	Compiler: clang 17.0.6 (Fedora 17.0.6-2.fc39)

Fedora 39
	Kernel: Depends on container host
	Compiler: gcc 13.3.1 20240522 (Red Hat 13.3.1-1)

To view detailed results, visit:
https://lab.dpdk.org/results/dashboard/tarballs/31960/

UNH-IOL DPDK Community Lab

To manage your email subscriptions, visit: 
https://lab.dpdk.org/results/dashboard/preferences/subscriptions/


More information about the test-report mailing list