|SUCCESS| [GIT MASTER] 4dc4e33ffa108e945fc8a1e2bbc7819791faa61e

dpdklab at iol.unh.edu dpdklab at iol.unh.edu
Wed Dec 18 18:40:47 CET 2024


_Testing PASS_

Branch: dpdk

4dc4e33ffa108e945fc8a1e2bbc7819791faa61e --> testing pass

Upstream job id: Windows-Compile-DPDK-Native#25406

Test environment and result as below:

+---------------------+--------------------+------------------+-------------------+-------------------+-----------------------+----------------------+
|     Environment     | dpdk_meson_compile | dpdk_compile_ovs | dpdk_compile_spdk | dpdk_msvc_compile | dpdk_win_llvm_compile | dpdk_mingw64_compile |
+=====================+====================+==================+===================+===================+=======================+======================+
| Fedora 39 (Clang)   | PASS               | PASS             | PASS              | SKIPPED           | SKIPPED               | SKIPPED              |
+---------------------+--------------------+------------------+-------------------+-------------------+-----------------------+----------------------+
| Fedora 39           | PASS               | PASS             | PASS              | SKIPPED           | SKIPPED               | SKIPPED              |
+---------------------+--------------------+------------------+-------------------+-------------------+-----------------------+----------------------+
| Fedora 40 (Clang)   | PASS               | PASS             | PASS              | SKIPPED           | SKIPPED               | SKIPPED              |
+---------------------+--------------------+------------------+-------------------+-------------------+-----------------------+----------------------+
| Debian 12           | PASS               | PASS             | PASS              | SKIPPED           | SKIPPED               | SKIPPED              |
+---------------------+--------------------+------------------+-------------------+-------------------+-----------------------+----------------------+
| CentOS Stream 9     | PASS               | PASS             | PASS              | SKIPPED           | SKIPPED               | SKIPPED              |
+---------------------+--------------------+------------------+-------------------+-------------------+-----------------------+----------------------+
| Ubuntu 24.04        | PASS               | PASS             | PASS              | SKIPPED           | SKIPPED               | SKIPPED              |
+---------------------+--------------------+------------------+-------------------+-------------------+-----------------------+----------------------+
| FreeBSD 13.4        | PASS               | SKIPPED          | SKIPPED           | SKIPPED           | SKIPPED               | SKIPPED              |
+---------------------+--------------------+------------------+-------------------+-------------------+-----------------------+----------------------+
| Windows Server 2022 | SKIPPED            | SKIPPED          | SKIPPED           | PASS              | PASS                  | PASS                 |
+---------------------+--------------------+------------------+-------------------+-------------------+-----------------------+----------------------+


Fedora 39 (Clang)
	Kernel: Depends on container host
	Compiler: clang 17.0.6 (Fedora 17.0.6-2.fc39)

Fedora 39
	Kernel: Depends on container host
	Compiler: gcc 13.3.1 20240522 (Red Hat 13.3.1-1)

Fedora 40 (Clang)
	Kernel: Depends on container host
	Compiler: clang 18.1.6 (Fedora 18.1.6-3.fc40)

Debian 12
	Kernel: Depends on container host
	Compiler: gcc (Debian 12.2.0-14) 12.2.0

CentOS Stream 9
	Kernel: Depends on container host
	Compiler: gcc 11.4.1 20231218 (Red Hat 11.4.1-3)

Ubuntu 24.04
	Kernel: Depends on container host
	Compiler: gcc (Ubuntu 13.2.0-23ubuntu4) 13.2.0

FreeBSD 13.4
	Kernel: 13.4-RELEASE-p1
	Compiler: clang 18.1.6

Windows Server 2022
	Kernel: 10.0.20348.2031
	Compiler: clang 15.0.7, gcc 14.1.0 (MinGW), and MSVC VS 19.39.33521

To view detailed results, visit:
https://lab.dpdk.org/results/dashboard/tarballs/31960/

UNH-IOL DPDK Community Lab

To manage your email subscriptions, visit: 
https://lab.dpdk.org/results/dashboard/preferences/subscriptions/


More information about the test-report mailing list