|WARNING| pw149319 [PATCH] cryptodev: allow use of global variables

dpdklab at iol.unh.edu dpdklab at iol.unh.edu
Fri Dec 20 01:36:58 CET 2024


Test-Label: iol-compile-amd64-testing
Test-Status: WARNING
http://dpdk.org/patch/149319

_Testing issues_

Submitter: Mattias Ronnblom <mattias.ronnblom at ericsson.com>
Date: Thursday, December 19 2024 16:35:23 
DPDK git baseline: Repo:dpdk
  Branch: master
  CommitID:7df61db6c387703a36306c1aea92225921e2eeb2

149319 --> testing issues

Upstream job id: Generic-DPDK-Compile-Meson#345030

Test environment and result as below:

+---------------------+--------------------+------------------+-------------------+-----------------------+
|     Environment     | dpdk_meson_compile | dpdk_compile_ovs | dpdk_compile_spdk | dpdk_win_llvm_compile |
+=====================+====================+==================+===================+=======================+
| CentOS Stream 9     | PASS               | PASS             | PASS              | SKIPPED               |
+---------------------+--------------------+------------------+-------------------+-----------------------+
| Fedora 39 (Clang)   | PEND               | PEND             | PEND              | SKIPPED               |
+---------------------+--------------------+------------------+-------------------+-----------------------+
| Debian 12           | PEND               | PEND             | PEND              | SKIPPED               |
+---------------------+--------------------+------------------+-------------------+-----------------------+
| Fedora 39           | PEND               | PEND             | PEND              | SKIPPED               |
+---------------------+--------------------+------------------+-------------------+-----------------------+
| Fedora 40 (Clang)   | PEND               | PEND             | PEND              | SKIPPED               |
+---------------------+--------------------+------------------+-------------------+-----------------------+
| openSUSE Leap 15    | PASS               | WARN             | SKIPPED           | SKIPPED               |
+---------------------+--------------------+------------------+-------------------+-----------------------+
| RHEL8               | PEND               | PEND             | SKIPPED           | SKIPPED               |
+---------------------+--------------------+------------------+-------------------+-----------------------+
| Ubuntu 20.04        | PEND               | PEND             | SKIPPED           | SKIPPED               |
+---------------------+--------------------+------------------+-------------------+-----------------------+
| RHEL9               | PEND               | PEND             | SKIPPED           | SKIPPED               |
+---------------------+--------------------+------------------+-------------------+-----------------------+
| Ubuntu 22.04        | PEND               | PEND             | PEND              | SKIPPED               |
+---------------------+--------------------+------------------+-------------------+-----------------------+
| Ubuntu 24.04        | PEND               | PEND             | PEND              | SKIPPED               |
+---------------------+--------------------+------------------+-------------------+-----------------------+
| Alpine              | PEND               | PEND             | SKIPPED           | SKIPPED               |
+---------------------+--------------------+------------------+-------------------+-----------------------+
| Windows Server 2022 | SKIPPED            | SKIPPED          | SKIPPED           | PEND                  |
+---------------------+--------------------+------------------+-------------------+-----------------------+

==== 20 line log output for openSUSE Leap 15 (dpdk_compile_ovs): ====
 --- Failed to get log output --- 
==== End log output ====

CentOS Stream 9
	Kernel: Depends on container host
	Compiler: gcc 11.4.1 20231218 (Red Hat 11.4.1-3)

Fedora 39 (Clang)
	Kernel: Depends on container host
	Compiler: clang 17.0.6 (Fedora 17.0.6-2.fc39)

Debian 12
	Kernel: Depends on container host
	Compiler: gcc (Debian 12.2.0-14) 12.2.0

Fedora 39
	Kernel: Depends on container host
	Compiler: gcc 13.3.1 20240522 (Red Hat 13.3.1-1)

Fedora 40 (Clang)
	Kernel: Depends on container host
	Compiler: clang 18.1.6 (Fedora 18.1.6-3.fc40)

openSUSE Leap 15
	Kernel: Depends on container host
	Compiler: gcc (SUSE Linux) 7.5.0

RHEL8
	Kernel: Depends on container host
	Compiler: gcc 8.5.0 20210514 (Red Hat 8.5.0-22)

Ubuntu 20.04
	Kernel: Depends on container host
	Compiler: gcc (Ubuntu 9.4.0-1ubuntu1~20.04.2) 9.4.0

RHEL9
	Kernel: Depends on container host
	Compiler: gcc 11.4.1 20231218 (Red Hat 11.4.1-3)

Ubuntu 22.04
	Kernel: Depends on container host
	Compiler: gcc (Ubuntu 11.4.0-1ubuntu1~22.04) 11.4.0

Ubuntu 24.04
	Kernel: Depends on container host
	Compiler: gcc (Ubuntu 13.2.0-23ubuntu4) 13.2.0

Alpine
	Kernel: Depends on container host
	Compiler: gcc (Alpine 13.2.1_git20240309) 13.2.1 20240309

Windows Server 2022
	Kernel: 10.0.20348.2031
	Compiler: clang 15.0.7, gcc 14.1.0 (MinGW), and MSVC VS 19.39.33521

To view detailed results, visit:
https://lab.dpdk.org/results/dashboard/patchsets/32174/

UNH-IOL DPDK Community Lab

To manage your email subscriptions, visit: 
https://lab.dpdk.org/results/dashboard/preferences/subscriptions/


More information about the test-report mailing list