|WARNING| [GIT MASTER] 07604f264417959d76aa9fcb8cb0c3665f62f0d3
dpdklab at iol.unh.edu
dpdklab at iol.unh.edu
Fri Dec 20 03:00:42 CET 2024
_Testing issues_
Branch: dpdk
07604f264417959d76aa9fcb8cb0c3665f62f0d3 --> testing issues
Upstream job id: Generic-DPDK-Compile-Meson#345080
Test environment and result as below:
+-------------------+--------------------+------------------+-------------------+
| Environment | dpdk_meson_compile | dpdk_compile_ovs | dpdk_compile_spdk |
+===================+====================+==================+===================+
| CentOS Stream 9 | PASS | PASS | PASS |
+-------------------+--------------------+------------------+-------------------+
| Fedora 39 (Clang) | PEND | PEND | PEND |
+-------------------+--------------------+------------------+-------------------+
| Debian 12 | PEND | PEND | PEND |
+-------------------+--------------------+------------------+-------------------+
| Fedora 40 | PEND | PEND | PEND |
+-------------------+--------------------+------------------+-------------------+
| Fedora 40 (Clang) | PEND | PEND | PEND |
+-------------------+--------------------+------------------+-------------------+
| openSUSE Leap 15 | PASS | WARN | SKIPPED |
+-------------------+--------------------+------------------+-------------------+
| RHEL8 | PEND | PEND | SKIPPED |
+-------------------+--------------------+------------------+-------------------+
| RHEL9 | PEND | PEND | SKIPPED |
+-------------------+--------------------+------------------+-------------------+
| Ubuntu 20.04 | PEND | PEND | SKIPPED |
+-------------------+--------------------+------------------+-------------------+
| Ubuntu 24.04 | PEND | PEND | PEND |
+-------------------+--------------------+------------------+-------------------+
| Arch Linux | PEND | PEND | SKIPPED |
+-------------------+--------------------+------------------+-------------------+
==== 20 line log output for openSUSE Leap 15 (dpdk_compile_ovs): ====
--- Failed to get log output ---
==== End log output ====
CentOS Stream 9
Kernel: Depends on container host
Compiler: gcc 11.4.1 20231218 (Red Hat 11.4.1-3)
Fedora 39 (Clang)
Kernel: Depends on container host
Compiler: clang 17.0.6 (Fedora 17.0.6-2.fc39)
Debian 12
Kernel: Depends on container host
Compiler: gcc (Debian 12.2.0-14) 12.2.0
Fedora 40
Kernel: Depends on container host
Compiler: gcc 14.2.1 20240801 (Red Hat 14.2.1-1)
Fedora 40 (Clang)
Kernel: Depends on container host
Compiler: clang 18.1.6 (Fedora 18.1.6-3.fc40)
openSUSE Leap 15
Kernel: Depends on container host
Compiler: gcc (SUSE Linux) 7.5.0
RHEL8
Kernel: Depends on container host
Compiler: gcc 8.5.0 20210514 (Red Hat 8.5.0-22)
RHEL9
Kernel: Depends on container host
Compiler: gcc 11.4.1 20231218 (Red Hat 11.4.1-3)
Ubuntu 20.04
Kernel: Depends on container host
Compiler: gcc (Ubuntu 9.4.0-1ubuntu1~20.04.2) 9.4.0
Ubuntu 24.04
Kernel: Depends on container host
Compiler: gcc (Ubuntu 13.2.0-23ubuntu4) 13.2.0
Arch Linux
Kernel: Depends on container host
Compiler: gcc 14.2.1 20240805
To view detailed results, visit:
https://lab.dpdk.org/results/dashboard/tarballs/31994/
UNH-IOL DPDK Community Lab
To manage your email subscriptions, visit:
https://lab.dpdk.org/results/dashboard/preferences/subscriptions/
More information about the test-report
mailing list