|SUCCESS| [GIT MASTER] 340c178977a29d2bffa4e43122207ce3a02be7ee

dpdklab at iol.unh.edu dpdklab at iol.unh.edu
Sat Dec 21 09:49:41 CET 2024


_Testing PASS_

Branch: tags/v21.11

340c178977a29d2bffa4e43122207ce3a02be7ee --> testing pass

Upstream job id: Generic-DPDK-Compile-Meson#345466

Test environment and result as below:

+-------------------+--------------------+
|    Environment    | dpdk_meson_compile |
+===================+====================+
| CentOS Stream 9   | PASS               |
+-------------------+--------------------+
| Fedora 40         | PASS               |
+-------------------+--------------------+
| Fedora 40 (Clang) | PASS               |
+-------------------+--------------------+
| openSUSE Leap 15  | PASS               |
+-------------------+--------------------+
| RHEL9             | PASS               |
+-------------------+--------------------+
| Ubuntu 20.04      | PASS               |
+-------------------+--------------------+
| Ubuntu 22.04      | PASS               |
+-------------------+--------------------+
| FreeBSD 13.4      | PASS               |
+-------------------+--------------------+
| Debian Bullseye   | PASS               |
+-------------------+--------------------+
| FreeBSD 14.2      | PASS               |
+-------------------+--------------------+
| Fedora 39 (Clang) | PASS               |
+-------------------+--------------------+
| Fedora 39         | PASS               |
+-------------------+--------------------+
| RHEL8             | PASS               |
+-------------------+--------------------+
| Ubuntu 24.04      | PASS               |
+-------------------+--------------------+
| Debian 12         | PASS               |
+-------------------+--------------------+


CentOS Stream 9
	Kernel: Depends on container host
	Compiler: gcc 11.4.1 20231218 (Red Hat 11.4.1-3)

Fedora 40
	Kernel: Depends on container host
	Compiler: gcc 14.2.1 20240801 (Red Hat 14.2.1-1)

Fedora 40 (Clang)
	Kernel: Depends on container host
	Compiler: clang 18.1.6 (Fedora 18.1.6-3.fc40)

openSUSE Leap 15
	Kernel: Depends on container host
	Compiler: gcc (SUSE Linux) 7.5.0

RHEL9
	Kernel: Depends on container host
	Compiler: gcc 11.4.1 20231218 (Red Hat 11.4.1-3)

Ubuntu 20.04
	Kernel: Depends on container host
	Compiler: gcc (Ubuntu 9.4.0-1ubuntu1~20.04.2) 9.4.0

Ubuntu 22.04
	Kernel: Depends on container host
	Compiler: gcc (Ubuntu 11.4.0-1ubuntu1~22.04) 11.4.0

FreeBSD 13.4
	Kernel: 13.4-RELEASE-p1
	Compiler: clang 18.1.6

Debian Bullseye
	Kernel: Depends on container host
	Compiler: gcc (Debian 10.2.1-6) 10.2.1 20210110

FreeBSD 14.2
	Kernel: 14.2-RELEASE
	Compiler: clang 18.1.6

Fedora 39 (Clang)
	Kernel: Depends on container host
	Compiler: clang 17.0.6 (Fedora 17.0.6-2.fc39)

Fedora 39
	Kernel: Depends on container host
	Compiler: gcc 13.3.1 20240522 (Red Hat 13.3.1-1)

RHEL8
	Kernel: Depends on container host
	Compiler: gcc 8.5.0 20210514 (Red Hat 8.5.0-22)

Ubuntu 24.04
	Kernel: Depends on container host
	Compiler: gcc (Ubuntu 13.2.0-23ubuntu4) 13.2.0

Debian 12
	Kernel: Depends on container host
	Compiler: gcc (Debian 12.2.0-14) 12.2.0

To view detailed results, visit:
https://lab.dpdk.org/results/dashboard/tarballs/32007/

UNH-IOL DPDK Community Lab

To manage your email subscriptions, visit: 
https://lab.dpdk.org/results/dashboard/preferences/subscriptions/


More information about the test-report mailing list