|WARNING| [GIT MASTER] 07604f264417959d76aa9fcb8cb0c3665f62f0d3
dpdklab at iol.unh.edu
dpdklab at iol.unh.edu
Sun Dec 22 02:42:49 CET 2024
_Testing issues_
Branch: dpdk
07604f264417959d76aa9fcb8cb0c3665f62f0d3 --> testing issues
Upstream job id: Generic-DPDK-Compile-Meson#345564
Test environment and result as below:
+---------------------+--------------------+------------------+-------------------+-----------------------+
| Environment | dpdk_meson_compile | dpdk_compile_ovs | dpdk_compile_spdk | dpdk_win_llvm_compile |
+=====================+====================+==================+===================+=======================+
| Fedora 39 (Clang) | PEND | PEND | PEND | SKIPPED |
+---------------------+--------------------+------------------+-------------------+-----------------------+
| Debian Bullseye | PEND | PEND | PEND | SKIPPED |
+---------------------+--------------------+------------------+-------------------+-----------------------+
| Debian 12 | PEND | PEND | PEND | SKIPPED |
+---------------------+--------------------+------------------+-------------------+-----------------------+
| Fedora 39 | PASS | PASS | PASS | SKIPPED |
+---------------------+--------------------+------------------+-------------------+-----------------------+
| RHEL8 | PEND | PEND | SKIPPED | SKIPPED |
+---------------------+--------------------+------------------+-------------------+-----------------------+
| openSUSE Leap 15 | PASS | WARN | SKIPPED | SKIPPED |
+---------------------+--------------------+------------------+-------------------+-----------------------+
| Ubuntu 20.04 | PEND | PEND | SKIPPED | SKIPPED |
+---------------------+--------------------+------------------+-------------------+-----------------------+
| RHEL9 | PEND | PEND | SKIPPED | SKIPPED |
+---------------------+--------------------+------------------+-------------------+-----------------------+
| Ubuntu 22.04 | PEND | PEND | PEND | SKIPPED |
+---------------------+--------------------+------------------+-------------------+-----------------------+
| Ubuntu 24.04 | PEND | PEND | PEND | SKIPPED |
+---------------------+--------------------+------------------+-------------------+-----------------------+
| Arch Linux | PEND | PEND | SKIPPED | SKIPPED |
+---------------------+--------------------+------------------+-------------------+-----------------------+
| Alpine | PEND | PEND | SKIPPED | SKIPPED |
+---------------------+--------------------+------------------+-------------------+-----------------------+
| Windows Server 2022 | SKIPPED | SKIPPED | SKIPPED | PEND |
+---------------------+--------------------+------------------+-------------------+-----------------------+
==== 20 line log output for openSUSE Leap 15 (dpdk_compile_ovs): ====
--- Failed to get log output ---
==== End log output ====
Fedora 39 (Clang)
Kernel: Depends on container host
Compiler: clang 17.0.6 (Fedora 17.0.6-2.fc39)
Debian Bullseye
Kernel: Depends on container host
Compiler: gcc (Debian 10.2.1-6) 10.2.1 20210110
Debian 12
Kernel: Depends on container host
Compiler: gcc (Debian 12.2.0-14) 12.2.0
Fedora 39
Kernel: Depends on container host
Compiler: gcc 13.3.1 20240522 (Red Hat 13.3.1-1)
RHEL8
Kernel: Depends on container host
Compiler: gcc 8.5.0 20210514 (Red Hat 8.5.0-22)
openSUSE Leap 15
Kernel: Depends on container host
Compiler: gcc (SUSE Linux) 7.5.0
Ubuntu 20.04
Kernel: Depends on container host
Compiler: gcc (Ubuntu 9.4.0-1ubuntu1~20.04.2) 9.4.0
RHEL9
Kernel: Depends on container host
Compiler: gcc 11.4.1 20231218 (Red Hat 11.4.1-3)
Ubuntu 22.04
Kernel: Depends on container host
Compiler: gcc (Ubuntu 11.4.0-1ubuntu1~22.04) 11.4.0
Ubuntu 24.04
Kernel: Depends on container host
Compiler: gcc (Ubuntu 13.2.0-23ubuntu4) 13.2.0
Arch Linux
Kernel: Depends on container host
Compiler: gcc 14.2.1 20240805
Alpine
Kernel: Depends on container host
Compiler: gcc (Alpine 13.2.1_git20240309) 13.2.1 20240309
Windows Server 2022
Kernel: 10.0.20348.2031
Compiler: clang 15.0.7, gcc 14.1.0 (MinGW), and MSVC VS 19.39.33521
To view detailed results, visit:
https://lab.dpdk.org/results/dashboard/tarballs/32011/
UNH-IOL DPDK Community Lab
To manage your email subscriptions, visit:
https://lab.dpdk.org/results/dashboard/preferences/subscriptions/
More information about the test-report
mailing list