|SUCCESS| pw149488 [PATCH] Fix unused memseg length for memory issue

dpdklab at iol.unh.edu dpdklab at iol.unh.edu
Thu Dec 26 10:23:56 CET 2024


Test-Label: iol-unit-arm64-testing
Test-Status: SUCCESS
http://dpdk.org/patch/149488

_Testing PASS_

Submitter: Yang Ming <ming.1.yang at nokia-sbell.com>
Date: Thursday, December 26 2024 08:10:20 
DPDK git baseline: Repo:dpdk
  Branch: master
  CommitID:fd51012de5369679e807be1d6a81d63ef15015ce

149488 --> testing pass

Upstream job id: Generic-Unit-Test-DPDK#302122

Test environment and result as below:

+--------------------------+----------------+--------------+---------------------------+------------------------------+
|       Environment        | dpdk_unit_test | lpm_autotest | cryptodev_sw_zuc_autotest | cryptodev_sw_snow3g_autotest |
+==========================+================+==============+===========================+==============================+
| CentOS Stream 9 (ARM)    | PASS           | SKIPPED      | SKIPPED                   | SKIPPED                      |
+--------------------------+----------------+--------------+---------------------------+------------------------------+
| Debian 11 (Buster) (ARM) | PASS           | SKIPPED      | SKIPPED                   | SKIPPED                      |
+--------------------------+----------------+--------------+---------------------------+------------------------------+
| Fedora 40 (ARM)          | PASS           | SKIPPED      | SKIPPED                   | SKIPPED                      |
+--------------------------+----------------+--------------+---------------------------+------------------------------+
| Debian 12 (arm)          | PASS           | SKIPPED      | PASS                      | PASS                         |
+--------------------------+----------------+--------------+---------------------------+------------------------------+
| Fedora 40 (ARM Clang)    | PASS           | SKIPPED      | SKIPPED                   | SKIPPED                      |
+--------------------------+----------------+--------------+---------------------------+------------------------------+
| Ubuntu 24.04 (ARM)       | PASS           | SKIPPED      | SKIPPED                   | SKIPPED                      |
+--------------------------+----------------+--------------+---------------------------+------------------------------+
| Fedora 41 (ARM)          | PASS           | SKIPPED      | SKIPPED                   | SKIPPED                      |
+--------------------------+----------------+--------------+---------------------------+------------------------------+
| Fedora 41 (ARM Clang)    | PASS           | SKIPPED      | SKIPPED                   | SKIPPED                      |
+--------------------------+----------------+--------------+---------------------------+------------------------------+
| Ubuntu 22.04 (ARM)       | PASS           | SKIPPED      | SKIPPED                   | SKIPPED                      |
+--------------------------+----------------+--------------+---------------------------+------------------------------+
| RHEL9 (ARM)              | PASS           | SKIPPED      | SKIPPED                   | SKIPPED                      |
+--------------------------+----------------+--------------+---------------------------+------------------------------+
| Ubuntu 20.04 (ARM)       | PASS           | SKIPPED      | SKIPPED                   | SKIPPED                      |
+--------------------------+----------------+--------------+---------------------------+------------------------------+
| Ubuntu 20.04 ARM SVE     | SKIPPED        | PASS         | SKIPPED                   | SKIPPED                      |
+--------------------------+----------------+--------------+---------------------------+------------------------------+


CentOS Stream 9 (ARM)
	Kernel: Depends on container host
	Compiler: gcc 11.5.0 20240719 (Red Hat 11.5.0-2)

Debian 11 (Buster) (ARM)
	Kernel: Depends on container host
	Compiler: gcc (Debian 10.2.1-6) 10.2.1 20210110

Fedora 40 (ARM)
	Kernel: Depends on container host
	Compiler: gcc 14.2.1 20240912 (Red Hat 14.2.1-3)

Debian 12 (arm)
	Kernel: Depends on container host
	Compiler: gcc (Debian 12.2.0-14) 12.2.0

Fedora 40 (ARM Clang)
	Kernel: Depends on container host
	Compiler: clang 18.1.8 (Fedora 18.1.8-1.fc40)

Ubuntu 24.04 (ARM)
	Kernel: Depends on container host
	Compiler: gcc (Ubuntu 13.3.0-6ubuntu2~24.04) 13.3.0

Fedora 41 (ARM)
	Kernel: Depends on container host
	Compiler: gcc 14.2.1 20240912 (Red Hat 14.2.1-3)

Fedora 41 (ARM Clang)
	Kernel: Depends on container host
	Compiler: clang 19.1.5 (Fedora 19.1.5-1.fc41)

Ubuntu 22.04 (ARM)
	Kernel: Depends on container host
	Compiler: gcc (Ubuntu 11.4.0-1ubuntu1~22.04) 11.4.0

RHEL9 (ARM)
	Kernel: Depends on container host
	Compiler: gcc 11.5.0 20240719 (Red Hat 11.5.0-2)

Ubuntu 20.04 (ARM)
	Kernel: Depends on container host
	Compiler: gcc (Ubuntu 9.4.0-1ubuntu1~20.04.2) 9.4.0

Ubuntu 20.04 ARM SVE
	Kernel: Depends on container host
	Compiler: gcc (Ubuntu 10.5.0-1ubuntu1~20.04) 10.5.0

To view detailed results, visit:
https://lab.dpdk.org/results/dashboard/patchsets/32213/

UNH-IOL DPDK Community Lab

To manage your email subscriptions, visit: 
https://lab.dpdk.org/results/dashboard/preferences/subscriptions/


More information about the test-report mailing list