|SUCCESS| pw149499 [PATCH] lib/eventdev: use correct format string f
dpdklab at iol.unh.edu
dpdklab at iol.unh.edu
Fri Dec 27 18:31:51 CET 2024
Test-Label: iol-unit-arm64-testing
Test-Status: SUCCESS
http://dpdk.org/patch/149499
_Testing PASS_
Submitter: Andre Muezerie <andremue at linux.microsoft.com>
Date: Friday, December 27 2024 16:18:05
DPDK git baseline: Repo:dpdk
Branch: master
CommitID:1b3bf1128d9bda5595861814792f74b8f57160c8
149499 --> testing pass
Upstream job id: Aarch32-Unit-Test#4774
Test environment and result as below:
+-----------------------------+--------------+----------------+------------------------------+---------------------------+
| Environment | lpm_autotest | dpdk_unit_test | cryptodev_sw_snow3g_autotest | cryptodev_sw_zuc_autotest |
+=============================+==============+================+==============================+===========================+
| Ubuntu 20.04 ARM SVE | PASS | SKIPPED | SKIPPED | SKIPPED |
+-----------------------------+--------------+----------------+------------------------------+---------------------------+
| Debian 12 (arm) | SKIPPED | PASS | PASS | PASS |
+-----------------------------+--------------+----------------+------------------------------+---------------------------+
| CentOS Stream 9 (ARM) | SKIPPED | PASS | SKIPPED | SKIPPED |
+-----------------------------+--------------+----------------+------------------------------+---------------------------+
| Debian 11 (Buster) (ARM) | SKIPPED | PASS | SKIPPED | SKIPPED |
+-----------------------------+--------------+----------------+------------------------------+---------------------------+
| Fedora 40 (ARM Clang) | SKIPPED | PASS | SKIPPED | SKIPPED |
+-----------------------------+--------------+----------------+------------------------------+---------------------------+
| Fedora 41 (ARM) | SKIPPED | PASS | SKIPPED | SKIPPED |
+-----------------------------+--------------+----------------+------------------------------+---------------------------+
| Ubuntu 20.04 (ARM) | SKIPPED | PASS | SKIPPED | SKIPPED |
+-----------------------------+--------------+----------------+------------------------------+---------------------------+
| Ubuntu 22.04 (ARM) | SKIPPED | PASS | SKIPPED | SKIPPED |
+-----------------------------+--------------+----------------+------------------------------+---------------------------+
| RHEL9 (ARM) | SKIPPED | PASS | SKIPPED | SKIPPED |
+-----------------------------+--------------+----------------+------------------------------+---------------------------+
| Fedora 41 (ARM Clang) | SKIPPED | PASS | SKIPPED | SKIPPED |
+-----------------------------+--------------+----------------+------------------------------+---------------------------+
| 32-bit Ubuntu 22.04.4 (ARM) | SKIPPED | PASS | SKIPPED | SKIPPED |
+-----------------------------+--------------+----------------+------------------------------+---------------------------+
Ubuntu 20.04 ARM SVE
Kernel: Depends on container host
Compiler: gcc (Ubuntu 10.5.0-1ubuntu1~20.04) 10.5.0
Debian 12 (arm)
Kernel: Depends on container host
Compiler: gcc (Debian 12.2.0-14) 12.2.0
CentOS Stream 9 (ARM)
Kernel: Depends on container host
Compiler: gcc 11.5.0 20240719 (Red Hat 11.5.0-2)
Debian 11 (Buster) (ARM)
Kernel: Depends on container host
Compiler: gcc (Debian 10.2.1-6) 10.2.1 20210110
Fedora 40 (ARM Clang)
Kernel: Depends on container host
Compiler: clang 18.1.8 (Fedora 18.1.8-1.fc40)
Fedora 41 (ARM)
Kernel: Depends on container host
Compiler: gcc 14.2.1 20240912 (Red Hat 14.2.1-3)
Ubuntu 20.04 (ARM)
Kernel: Depends on container host
Compiler: gcc (Ubuntu 9.4.0-1ubuntu1~20.04.2) 9.4.0
Ubuntu 22.04 (ARM)
Kernel: Depends on container host
Compiler: gcc (Ubuntu 11.4.0-1ubuntu1~22.04) 11.4.0
RHEL9 (ARM)
Kernel: Depends on container host
Compiler: gcc 11.5.0 20240719 (Red Hat 11.5.0-2)
Fedora 41 (ARM Clang)
Kernel: Depends on container host
Compiler: clang 19.1.5 (Fedora 19.1.5-1.fc41)
32-bit Ubuntu 22.04.4 (ARM)
Kernel: 5.15.83+ aarch64
Compiler: gcc (Ubuntu 11.4.0-1ubuntu1~22.04) 11.4.0
To view detailed results, visit:
https://lab.dpdk.org/results/dashboard/patchsets/32219/
UNH-IOL DPDK Community Lab
To manage your email subscriptions, visit:
https://lab.dpdk.org/results/dashboard/preferences/subscriptions/
More information about the test-report
mailing list