|SUCCESS| pw135675-135677 [PATCH] [v10,3/3] app/graph: implement por

dpdklab at iol.unh.edu dpdklab at iol.unh.edu
Tue Jan 2 13:49:40 CET 2024


Test-Label: iol-unit-arm64-testing
Test-Status: SUCCESS
http://dpdk.org/patch/135677

_Testing PASS_

Submitter: Rakesh Kudurumalla <rkudurumalla at marvell.com>
Date: Tuesday, January 02 2024 07:30:38 
DPDK git baseline: Repo:dpdk
  Branch: master
  CommitID:6ef07151aac4b4d9601d547f94a996d1c71b3871

135675-135677 --> testing pass

Test environment and result as below:

+-----------------------+------------------------------+---------------------------+----------------+
|      Environment      | cryptodev_sw_snow3g_autotest | cryptodev_sw_zuc_autotest | dpdk_unit_test |
+=======================+==============================+===========================+================+
| Debian 11 (arm)       | PASS                         | PASS                      | SKIPPED        |
+-----------------------+------------------------------+---------------------------+----------------+
| CentOS Stream 9 (ARM) | SKIPPED                      | SKIPPED                   | PASS           |
+-----------------------+------------------------------+---------------------------+----------------+
| Fedora 38 (ARM)       | SKIPPED                      | SKIPPED                   | PASS           |
+-----------------------+------------------------------+---------------------------+----------------+


Debian 11 (arm)
	Kernel: Container Host Kernel
	Compiler: gcc 10.2.1

CentOS Stream 9 (ARM)
	Kernel: Container Host Kernel
	Compiler: gcc 11.3.1

Fedora 38 (ARM)
	Kernel: Depends on container host
	Compiler: gcc 13.1.1

To view detailed results, visit:
https://lab.dpdk.org/results/dashboard/patchsets/28765/

UNH-IOL DPDK Community Lab

To manage your email subscriptions, visit: 
https://lab.dpdk.org/results/dashboard/preferences/subscriptions/


More information about the test-report mailing list